BEGIN:VCALENDAR
VERSION:2.0
PRODID:-//CHAS Health | Doctors, Dentists, Medical Clinics &amp; Pharmacy - ECPv6.15.20//NONSGML v1.0//EN
CALSCALE:GREGORIAN
METHOD:PUBLISH
X-ORIGINAL-URL:https://dev.chas.org
X-WR-CALDESC:Events for CHAS Health | Doctors, Dentists, Medical Clinics &amp; Pharmacy
REFRESH-INTERVAL;VALUE=DURATION:PT1H
X-Robots-Tag:noindex
X-PUBLISHED-TTL:PT1H
BEGIN:VTIMEZONE
TZID:America/Los_Angeles
BEGIN:DAYLIGHT
TZOFFSETFROM:-0800
TZOFFSETTO:-0700
TZNAME:PDT
DTSTART:20210314T100000
END:DAYLIGHT
BEGIN:STANDARD
TZOFFSETFROM:-0700
TZOFFSETTO:-0800
TZNAME:PST
DTSTART:20211107T090000
END:STANDARD
BEGIN:DAYLIGHT
TZOFFSETFROM:-0800
TZOFFSETTO:-0700
TZNAME:PDT
DTSTART:20220313T100000
END:DAYLIGHT
BEGIN:STANDARD
TZOFFSETFROM:-0700
TZOFFSETTO:-0800
TZNAME:PST
DTSTART:20221106T090000
END:STANDARD
BEGIN:DAYLIGHT
TZOFFSETFROM:-0800
TZOFFSETTO:-0700
TZNAME:PDT
DTSTART:20230312T100000
END:DAYLIGHT
BEGIN:STANDARD
TZOFFSETFROM:-0700
TZOFFSETTO:-0800
TZNAME:PST
DTSTART:20231105T090000
END:STANDARD
BEGIN:DAYLIGHT
TZOFFSETFROM:-0800
TZOFFSETTO:-0700
TZNAME:PDT
DTSTART:20240310T100000
END:DAYLIGHT
BEGIN:STANDARD
TZOFFSETFROM:-0700
TZOFFSETTO:-0800
TZNAME:PST
DTSTART:20241103T090000
END:STANDARD
BEGIN:DAYLIGHT
TZOFFSETFROM:-0800
TZOFFSETTO:-0700
TZNAME:PDT
DTSTART:20250309T100000
END:DAYLIGHT
BEGIN:STANDARD
TZOFFSETFROM:-0700
TZOFFSETTO:-0800
TZNAME:PST
DTSTART:20251102T090000
END:STANDARD
BEGIN:DAYLIGHT
TZOFFSETFROM:-0800
TZOFFSETTO:-0700
TZNAME:PDT
DTSTART:20260308T100000
END:DAYLIGHT
BEGIN:STANDARD
TZOFFSETFROM:-0700
TZOFFSETTO:-0800
TZNAME:PST
DTSTART:20261101T090000
END:STANDARD
END:VTIMEZONE
BEGIN:VEVENT
DTSTART;TZID=America/Los_Angeles:20250628T110000
DTEND;TZID=America/Los_Angeles:20250628T150000
DTSTAMP:20260423T035148
CREATED:20250508T185537Z
LAST-MODIFIED:20250606T222659Z
UID:10000937-1751108400-1751122800@dev.chas.org
SUMMARY:El Mercadito
DESCRIPTION:  \n  \nEl Mercadito is a monthly cultural market that:• Provides free fresh foods to the community (food bank)• Offers medical services and resources through the CHAS mobile clinic• Cultural activities• Explore and shop with local Artisan vendors• Music & entertainment \n 
URL:https://dev.chas.org/event/el-mercadito-3/
LOCATION:Liberty Park\, 1300 E. 5th Ave\, Spokane\, WA\, 99202\, United States
CATEGORIES:Community Event,Community Outreach,Mobile Clinic,Street Fair
ORGANIZER;CN="Latinos en Spokane":MAILTO:info@latinosenspokane.org
END:VEVENT
BEGIN:VEVENT
DTSTART;TZID=America/Los_Angeles:20250615T100000
DTEND;TZID=America/Los_Angeles:20250615T190000
DTSTAMP:20260423T035148
CREATED:20240606T172345Z
LAST-MODIFIED:20250606T224539Z
UID:10000523-1749981600-1750014000@dev.chas.org
SUMMARY:CHAS Health Mobile Clinic at Spokane Pride Parade & Festival
DESCRIPTION:CHAS Health will provide first-aid at the Spokane Pride Parade & Festival\n\n\nRiverfront Park\n507 N Howard St\nSpokane\, WA 99201
URL:https://dev.chas.org/event/spokane-pride-parade-festival-2/
LOCATION:Riverfront Park\, 507 N Howard Street\, Spokane\, WA\, 99201\, United States
CATEGORIES:Community Event,Community Outreach,Mobile Clinic,Street Fair
ATTACH;FMTTYPE=image/jpeg:https://dev.chas.org/wp-content/uploads/2024/04/mobile-clinic-wide-6.jpg
END:VEVENT
BEGIN:VEVENT
DTSTART;VALUE=DATE:20240920
DTEND;VALUE=DATE:20240923
DTSTAMP:20260423T035148
CREATED:20240701T204819Z
LAST-MODIFIED:20240701T204819Z
UID:10000529-1726790400-1727049599@dev.chas.org
SUMMARY:Valleyfest
DESCRIPTION:  \n \nValleyfest\, Spokane Valley’s premier community festival\, celebrates three decades of bringing fun\, entertainment\, and a vibrant community spirit to Spokane Valley. Valleyfest is a community of volunteers hosting Spokane Valley events yearly. Please help us by becoming a sponsored business partner or volunteering at one of the many events. \nSay hi to CHAS Health at Valleyfest.
URL:https://dev.chas.org/event/valleyfest-2/
LOCATION:Valleyfest\, 13500 Mirabeau Pkwy\, Spokane Valley\, WA\, 99216\, United States
CATEGORIES:Community Event,Community Outreach,Street Fair
END:VEVENT
BEGIN:VEVENT
DTSTART;TZID=America/Los_Angeles:20240824T100000
DTEND;TZID=America/Los_Angeles:20240824T200000
DTSTAMP:20260423T035148
CREATED:20240701T203851Z
LAST-MODIFIED:20240701T203851Z
UID:10000526-1724493600-1724529600@dev.chas.org
SUMMARY:Airway Heights Day
DESCRIPTION:Airway Heights Day annual event brings our summer to a close each year with a fun filled Friday night and all-day excitement on Saturday. Airway Heights Days take over our 10-acre Sunset Park in the heart of the city and turn it into a hub of fun and exciting activities for the family to enjoy. Airway Heights Days celebrate a number of annual traditions\, such as racing (and smashing) custom-designed watermelon racers\, followed by a movie under the stars to kick off the weekend. This truly is a community festival for any and everyone to enjoy. Be sure to come and enjoy a variety of free family activities\, local food and craft vendors\, live entertainment\, and much more. \nSay hello to the CHAS Health booth!
URL:https://dev.chas.org/event/airway-heights-day-2/
LOCATION:Airway Heights Day\, 924 S Lawson St\, Airway Heights\, WA\, 99001\, United States
CATEGORIES:Community Event,Community Outreach,Street Fair
ATTACH;FMTTYPE=image/png:https://dev.chas.org/wp-content/uploads/2024/07/AHDay24-Banner-1030x364-1.png
ORGANIZER;CN="Airway Heights Parks and Receration":MAILTO:parksandrec@cawh.org
END:VEVENT
BEGIN:VEVENT
DTSTART;TZID=America/Los_Angeles:20240817T173000
DTEND;TZID=America/Los_Angeles:20240817T193000
DTSTAMP:20260423T035148
CREATED:20240701T204235Z
LAST-MODIFIED:20240701T204300Z
UID:10000528-1723915800-1723923000@dev.chas.org
SUMMARY:Palousafest
DESCRIPTION:Palousafest is the premier welcome-back event on campus. Each year 3\,000 to 5\,000 new students\, returning students and community members attend this street fair to browse hundreds of student organizations\, campus departments and local businesses and non-profits and find out how to get involved with the Palouse community. Say hello to the CHAS Health table!
URL:https://dev.chas.org/event/palousafest/
LOCATION:University of Idaho\, 1098 W. 6th Street\, Moscow\, ID\, 83844\, United States
CATEGORIES:Community Outreach,Street Fair
ATTACH;FMTTYPE=image/jpeg:https://dev.chas.org/wp-content/uploads/2021/08/Palousafest-event-og.jpg
ORGANIZER;CN="University of Idaho":MAILTO:info@uidaho.edu
END:VEVENT
BEGIN:VEVENT
DTSTART;TZID=America/Los_Angeles:20240817T100000
DTEND;TZID=America/Los_Angeles:20240817T150000
DTSTAMP:20260423T035148
CREATED:20240402T163313Z
LAST-MODIFIED:20240402T163313Z
UID:10000518-1723888800-1723906800@dev.chas.org
SUMMARY:Unity in the Community
DESCRIPTION:Save the date August 17\, 2024 at Riverfront Park 10 am – 3 pm clock tower.   Bring a blanket or chairs with you so you can sit on the lawn.  You can watch the performances\, wander the booths\, and have lunch.  There is so much going on you may spend the whole day with us! Come visit the CHAS Health booth and say hello. \n\n\n\n\n\n\n\n\n\n\n\nSchool Supplies and Bike Helmets while supplies last.
URL:https://dev.chas.org/event/unity-in-the-community-3/
LOCATION:Riverfront Park\, 507 N Howard Street\, Spokane\, WA\, 99201\, United States
CATEGORIES:Community Event,Job Fair,Street Fair
ATTACH;FMTTYPE=image/png:https://dev.chas.org/wp-content/uploads/2023/05/Unity-in-the-community.png
END:VEVENT
BEGIN:VEVENT
DTSTART;TZID=America/Los_Angeles:20240809T090000
DTEND;TZID=America/Los_Angeles:20240809T120000
DTSTAMP:20260423T035148
CREATED:20240701T203323Z
LAST-MODIFIED:20240701T203323Z
UID:10000525-1723194000-1723204800@dev.chas.org
SUMMARY:KSPS Fit Kids Day
DESCRIPTION:  \n \nGet ready for a morning of excitement and playtime with the kids! Meet and greet popular PBS characters Malik and Zadie from Work it Out Wombats and Clifford The Big Red Dog as they make their way around. With activities suitable for ages 1 to 9\, including inflatable slides\, obstacle courses\, parachute games\, giant beach balls\, oversized blocks\, banana races\, bull riding hoppers\, crafts\, and more\, it’s an adventure the whole family will enjoy! \nSay hello the CHAS Health at Fit Kids Day!
URL:https://dev.chas.org/event/ksps-fit-kids-day-2/
LOCATION:PBS Fit Kids Day\, 4106 N Cook St.\, Spokane\, 99207\, United States
CATEGORIES:Community Event,Community Outreach,Street Fair
END:VEVENT
BEGIN:VEVENT
DTSTART;TZID=America/Los_Angeles:20240727T100000
DTEND;TZID=America/Los_Angeles:20240727T150000
DTSTAMP:20260423T035148
CREATED:20240701T202738Z
LAST-MODIFIED:20240701T202738Z
UID:10000524-1722074400-1722092400@dev.chas.org
SUMMARY:Deer Park Settlers Day
DESCRIPTION:Settlers Day 2024 begins with a parade that will start at 10:00 a.m. at various locations on East Crawford and proceed to Main Ave\, to Fourth Street\, then left on Fourth Street to Mix Park.\nFollowing the parade\, food\, craft\, and commercial booths will be at Mix Park\, where many class and family reunions are scheduled\, as well as community fun: the Reiter Games\, Safety Fair\, and Music. \nWave hello to the CHAS Health parade float and stop by the CHAS Health booth. \n 
URL:https://dev.chas.org/event/deer-park-settlers-day-2/
LOCATION:Deer Park Settlers Day\, 301 W. 4th Street\, Deer Park\, WA\, 99006\, United States
CATEGORIES:Community Event,Street Fair
ATTACH;FMTTYPE=image/jpeg:https://dev.chas.org/wp-content/uploads/2022/08/Deer-Park-Settlers-Day-2022-4.jpg
END:VEVENT
BEGIN:VEVENT
DTSTART;TZID=America/Los_Angeles:20240510T080000
DTEND;TZID=America/Los_Angeles:20240511T160000
DTSTAMP:20260423T035148
CREATED:20250506T221450Z
LAST-MODIFIED:20250506T222428Z
UID:10000936-1715328000-1715443200@dev.chas.org
SUMMARY:Cheney MayFest
DESCRIPTION:10th Annual Cheney MayFest!   Friday\, May 9 and Saturday\, May 10 mark the 11th Annual Cheney MayFest\, a grand celebration of Springtime in historic downtown Cheney\, WA!  MayFest is a community affair with street vendors\, live entertainment\, art in the alley\, loads of free family activities\, a classic car show\, a cornhole tournament\, and as they say… so much more! \n  \n  \n 
URL:https://dev.chas.org/event/cheney-mayfest-2/
LOCATION:Downtown Cheney\, 409 1st St\, Cheney\, WA\, 99004\, United States
CATEGORIES:Community Event,Street Fair
END:VEVENT
BEGIN:VEVENT
DTSTART;TZID=America/Los_Angeles:20240510T080000
DTEND;TZID=America/Los_Angeles:20240511T160000
DTSTAMP:20260423T035148
CREATED:20240213T234210Z
LAST-MODIFIED:20240213T234210Z
UID:10000516-1715328000-1715443200@dev.chas.org
SUMMARY:Cheney MayFest
DESCRIPTION:10th Annual Cheney MayFest!   Friday\, May 10th and Saturday\, May 11th mark the 10th Annual Cheney MayFest\, a grand celebration of Springtime in historic downtown Cheney\, WA!  MayFest is a community affair with street vendors\, live entertainment\, art in the alley\, loads of free family activities\, a classic car show\, a cornhole tournament\, and as they say… so much more! \n  \n  \n 
URL:https://dev.chas.org/event/cheney-mayfest/
LOCATION:Downtown Cheney\, 409 1st St\, Cheney\, WA\, 99004\, United States
CATEGORIES:Community Event,Street Fair
END:VEVENT
BEGIN:VEVENT
DTSTART;TZID=America/Los_Angeles:20231028T120000
DTEND;TZID=America/Los_Angeles:20231028T160000
DTSTAMP:20260423T035148
CREATED:20231020T164153Z
LAST-MODIFIED:20231020T164153Z
UID:10000476-1698494400-1698508800@dev.chas.org
SUMMARY:Lewiston Pumpkin Palooza
DESCRIPTION:A free fall festival with games\, crafts\, costume contests\, artisan fair\, and more! Downtown Main Street will be closed to traffic. We will have carnival games\, candy and no candy prizes as well as a costume contest for Adults\, Teens\, Kids\, and Groups\, as well as a Spooky Pooch Contest for all those furry friends of ours.
URL:https://dev.chas.org/event/lewiston-pumpkin-palooza/
LOCATION:Downtown Lewiston\, 301 Main Street\, suite 103\, Lewiston\, ID\, 83501\, United States
CATEGORIES:Community Event,Mobile Clinic,Street Fair
ORGANIZER;CN="Beautiful Downtown Lewiston":MAILTO:director@beautifuldowntownlewiston.org
END:VEVENT
BEGIN:VEVENT
DTSTART;VALUE=DATE:20230923
DTEND;VALUE=DATE:20230925
DTSTAMP:20260423T035148
CREATED:20230713T175745Z
LAST-MODIFIED:20230713T175745Z
UID:10000420-1695427200-1695599999@dev.chas.org
SUMMARY:Valleyfest
DESCRIPTION:  \n \nValleyfest\, Spokane Valley’s premier community festival\, celebrates three decades of bringing fun\, entertainment\, and a vibrant community spirit to Spokane Valley. Valleyfest is a community of volunteers hosting Spokane Valley events yearly. Please help us by becoming a sponsored business partner or volunteering at one of the many events. \nSay hi to CHAS Health at Valleyfest.
URL:https://dev.chas.org/event/valleyfest/
LOCATION:Valleyfest\, 13500 Mirabeau Pkwy\, Spokane Valley\, WA\, 99216\, United States
CATEGORIES:Community Event,Community Outreach,Street Fair
END:VEVENT
BEGIN:VEVENT
DTSTART;TZID=America/Los_Angeles:20230826T120000
DTEND;TZID=America/Los_Angeles:20230826T160000
DTSTAMP:20260423T035148
CREATED:20230823T174521Z
LAST-MODIFIED:20230823T174521Z
UID:10000425-1693051200-1693065600@dev.chas.org
SUMMARY:Palouse Pride 2023
DESCRIPTION:Join over 60 vendors including CHAS Health for an afternoon of performances\, speeches\, and community unity. \n 
URL:https://dev.chas.org/event/palouse-pride-2023/
LOCATION:Palouse Pride\, 900 E. 3rd Street\, Moscow\, ID\, 83843\, United States
CATEGORIES:Community Event,Street Fair
END:VEVENT
BEGIN:VEVENT
DTSTART;TZID=America/Los_Angeles:20230819T100000
DTEND;TZID=America/Los_Angeles:20230819T200000
DTSTAMP:20260423T035148
CREATED:20230607T204857Z
LAST-MODIFIED:20230607T204857Z
UID:10000418-1692439200-1692475200@dev.chas.org
SUMMARY:Airway Heights Day
DESCRIPTION:Airway Heights Day annual event brings our summer to a close each year with a fun filled Friday night and all-day excitement on Saturday. Airway Heights Days take over our 10-acre Sunset Park in the heart of the city and turn it into a hub of fun and exciting activities for the family to enjoy. Airway Heights Days celebrate a number of annual traditions\, such as racing (and smashing) custom-designed watermelon racers\, followed by a movie under the stars to kick off the weekend. This truly is a community festival for any and everyone to enjoy. Be sure to come and enjoy a variety of free family activities\, local food and craft vendors\, live entertainment\, and much more. \nSay hello to the CHAS Health booth!
URL:https://dev.chas.org/event/airway-heights-day/
LOCATION:Airway Heights Day\, 924 S Lawson St\, Airway Heights\, WA\, 99001\, United States
CATEGORIES:Community Event,Community Outreach,Street Fair
ATTACH;FMTTYPE=image/png:https://dev.chas.org/wp-content/uploads/2023/06/airway-heights-day.png
ORGANIZER;CN="Airway Heights Parks and Receration":MAILTO:parksandrec@cawh.org
END:VEVENT
BEGIN:VEVENT
DTSTART;TZID=America/Los_Angeles:20230812T100000
DTEND;TZID=America/Los_Angeles:20230812T160000
DTSTAMP:20260423T035148
CREATED:20230519T222928Z
LAST-MODIFIED:20230522T160610Z
UID:10000408-1691834400-1691856000@dev.chas.org
SUMMARY:Unity in the Community
DESCRIPTION:Save the date August 12\, 2023\, at Riverfront Park 10 am – 4 pm clock tower.  Please take this opportunity to review our website and learn more about the largest multicultural celebration in the Inland Northwest. \nBring a blanket or chairs with you so you can sit on the lawn.  You can watch the performances\, wander the booths\, and have lunch.  There is so much going on you may spend the whole day with us! Come visit the CHAS Health booth and say hello. \nFree school supplies and bike helmets while supplies last. \n\n\n\n\n\n\n\n\n\n\n\n\n 
URL:https://dev.chas.org/event/unity-in-the-community-2/
LOCATION:Riverfront Park\, 507 N Howard Street\, Spokane\, WA\, 99201\, United States
CATEGORIES:Community Event,Job Fair,Street Fair
ATTACH;FMTTYPE=image/png:https://dev.chas.org/wp-content/uploads/2023/05/Unity-in-the-community.png
END:VEVENT
BEGIN:VEVENT
DTSTART;TZID=America/Los_Angeles:20230715T100000
DTEND;TZID=America/Los_Angeles:20230715T200000
DTSTAMP:20260423T035148
CREATED:20230519T224447Z
LAST-MODIFIED:20230519T224447Z
UID:10000410-1689415200-1689451200@dev.chas.org
SUMMARY:South Perry Street Fair
DESCRIPTION:Since 1999\, the South Perry District has celebrated with a street fair each summer. \nOver the years\, the street fair has been held in many different capacities. \nIn 2022\, the fair covered three blocks of Perry Street and two parking lots with arts and crafts\, activities\, local businesses\, and food vendors. There were two stages\, a kid’s fair and so much more. \nCome stop by the CHAS Health booth for some sweet SWAG!
URL:https://dev.chas.org/event/south-perry-street-fair-2/
LOCATION:South Perry\, Perry Street\, Spokane\, WA\, United States
CATEGORIES:Community Event,Street Fair
ATTACH;FMTTYPE=image/jpeg:https://dev.chas.org/wp-content/uploads/2023/05/south-perry-street-fair-logo.jpg
ORGANIZER;CN="South Perry Business & Neighborhood Association":MAILTO:streetfair@southperry.org
END:VEVENT
BEGIN:VEVENT
DTSTART;TZID=America/Los_Angeles:20230610T120000
DTEND;TZID=America/Los_Angeles:20230610T210000
DTSTAMP:20260423T035148
CREATED:20230519T212001Z
LAST-MODIFIED:20230522T160709Z
UID:10000406-1686398400-1686430800@dev.chas.org
SUMMARY:Spokane Pride Parade & Festival
DESCRIPTION:Join Spokane Pride in celebrating 31 years of LGBTQ+ Pride in Spokane!  We have made so much progress as a community\, and despite things looking rough these days\, we are Never Going Back! Come say hi to the CHAS Health team at their booth! \n\nJune 10th\, 2023\nParade @ 12 pm\nFestival @ 12 pm – 6 pm\nEvening Entertainment @ 6 pm – 9 pm\n\n\nRiverfront Park\n507 N Howard St\nSpokane\, WA 99201
URL:https://dev.chas.org/event/spokane-pride-parade-festival/
LOCATION:Riverfront Park\, 507 N Howard Street\, Spokane\, WA\, 99201\, United States
CATEGORIES:Community Event,Community Outreach,Mobile Clinic,Street Fair
ATTACH;FMTTYPE=image/png:https://dev.chas.org/wp-content/uploads/2023/05/2023Theme.png
END:VEVENT
BEGIN:VEVENT
DTSTART;TZID=America/Los_Angeles:20220716T100000
DTEND;TZID=America/Los_Angeles:20220716T190000
DTSTAMP:20260423T035148
CREATED:20220527T185556Z
LAST-MODIFIED:20220527T185556Z
UID:10000311-1657965600-1657998000@dev.chas.org
SUMMARY:South Perry Street Fair
DESCRIPTION:Since 1999\, the South Perry District has celebrated each summer with a street fair. Over the years\, the street fair has been held in many different capacities. In 2019\, the fair covered four blocks of Perry Street and four parking lots with arts and crafts\, activities\, local businesses\, and food vendors. There were two stages\, a kid’s fair\, and so much more!
URL:https://dev.chas.org/event/south-perry-street-fair/
LOCATION:South Perry\, Perry Street\, Spokane\, WA\, United States
CATEGORIES:Community Event,Street Fair
ATTACH;FMTTYPE=image/jpeg:https://dev.chas.org/wp-content/uploads/2022/05/south-perry-street-fair.jpg
ORGANIZER;CN="South Perry Business & Neighborhood Association":MAILTO:streetfair@southperry.org
END:VEVENT
END:VCALENDAR