BEGIN:VCALENDAR
VERSION:2.0
PRODID:-//CHAS Health | Doctors, Dentists, Medical Clinics &amp; Pharmacy - ECPv6.15.20//NONSGML v1.0//EN
CALSCALE:GREGORIAN
METHOD:PUBLISH
X-ORIGINAL-URL:https://dev.chas.org
X-WR-CALDESC:Events for CHAS Health | Doctors, Dentists, Medical Clinics &amp; Pharmacy
REFRESH-INTERVAL;VALUE=DURATION:PT1H
X-Robots-Tag:noindex
X-PUBLISHED-TTL:PT1H
BEGIN:VTIMEZONE
TZID:America/Los_Angeles
BEGIN:DAYLIGHT
TZOFFSETFROM:-0800
TZOFFSETTO:-0700
TZNAME:PDT
DTSTART:20200308T100000
END:DAYLIGHT
BEGIN:STANDARD
TZOFFSETFROM:-0700
TZOFFSETTO:-0800
TZNAME:PST
DTSTART:20201101T090000
END:STANDARD
BEGIN:DAYLIGHT
TZOFFSETFROM:-0800
TZOFFSETTO:-0700
TZNAME:PDT
DTSTART:20210314T100000
END:DAYLIGHT
BEGIN:STANDARD
TZOFFSETFROM:-0700
TZOFFSETTO:-0800
TZNAME:PST
DTSTART:20211107T090000
END:STANDARD
BEGIN:DAYLIGHT
TZOFFSETFROM:-0800
TZOFFSETTO:-0700
TZNAME:PDT
DTSTART:20220313T100000
END:DAYLIGHT
BEGIN:STANDARD
TZOFFSETFROM:-0700
TZOFFSETTO:-0800
TZNAME:PST
DTSTART:20221106T090000
END:STANDARD
BEGIN:DAYLIGHT
TZOFFSETFROM:-0800
TZOFFSETTO:-0700
TZNAME:PDT
DTSTART:20230312T100000
END:DAYLIGHT
BEGIN:STANDARD
TZOFFSETFROM:-0700
TZOFFSETTO:-0800
TZNAME:PST
DTSTART:20231105T090000
END:STANDARD
BEGIN:DAYLIGHT
TZOFFSETFROM:-0800
TZOFFSETTO:-0700
TZNAME:PDT
DTSTART:20240310T100000
END:DAYLIGHT
BEGIN:STANDARD
TZOFFSETFROM:-0700
TZOFFSETTO:-0800
TZNAME:PST
DTSTART:20241103T090000
END:STANDARD
BEGIN:DAYLIGHT
TZOFFSETFROM:-0800
TZOFFSETTO:-0700
TZNAME:PDT
DTSTART:20250309T100000
END:DAYLIGHT
BEGIN:STANDARD
TZOFFSETFROM:-0700
TZOFFSETTO:-0800
TZNAME:PST
DTSTART:20251102T090000
END:STANDARD
BEGIN:DAYLIGHT
TZOFFSETFROM:-0800
TZOFFSETTO:-0700
TZNAME:PDT
DTSTART:20260308T100000
END:DAYLIGHT
BEGIN:STANDARD
TZOFFSETFROM:-0700
TZOFFSETTO:-0800
TZNAME:PST
DTSTART:20261101T090000
END:STANDARD
END:VTIMEZONE
BEGIN:VEVENT
DTSTART;TZID=America/Los_Angeles:20251018T090000
DTEND;TZID=America/Los_Angeles:20251018T130000
DTSTAMP:20260423T052848
CREATED:20251003T172924Z
LAST-MODIFIED:20251003T172924Z
UID:10004449-1760778000-1760792400@dev.chas.org
SUMMARY:CHAS Health North County Immunization Clinic
DESCRIPTION:CHAS Health North County Clinic in Deer Park is hosting a Saturday Immunization Clinic on Saturday October 18\,  from 9:00 am-1:00 pm.  Call ahead to schedule your vaccine appointment time at 509.444.8200 \, but walkin’s are always welcome.  Get your flu shot!
URL:https://dev.chas.org/event/chas-health-north-county-immunization-clinic/
LOCATION:North County Clinic\, 401 S. Main St.\, Deer Park\, WA\, 99006\, United States
CATEGORIES:Vaccine Clinic
ATTACH;FMTTYPE=image/jpeg:https://dev.chas.org/wp-content/uploads/2021/01/Deer_Park_Exterior_Update-4.jpg
END:VEVENT
BEGIN:VEVENT
DTSTART;TZID=America/Los_Angeles:20251018T090000
DTEND;TZID=America/Los_Angeles:20251018T120000
DTSTAMP:20260423T052848
CREATED:20251003T173203Z
LAST-MODIFIED:20251003T173203Z
UID:10004450-1760778000-1760788800@dev.chas.org
SUMMARY:CHAS Health Maple Street Clinic Immunization Clinic
DESCRIPTION:CHAS Health Maple Street Clinic is hosting a Saturday Immunization Clinic on October 18\,  from 9:00 am-12:00 pm.  Call ahead to schedule your vaccine appointment time at 509.444.8200 \, but walkin’s are always welcome.  Get your flu shot! \n 
URL:https://dev.chas.org/event/chas-health-maple-street-clinic-immunization-clinic/
LOCATION:Maple Street Clinic\, 3919 N. Maple St.\, Spokane\, WA\, 99205\, United States
CATEGORIES:Vaccine Clinic
ATTACH;FMTTYPE=image/jpeg:https://dev.chas.org/wp-content/uploads/2021/01/maple-street-clinic-og.jpg
END:VEVENT
BEGIN:VEVENT
DTSTART;TZID=America/Los_Angeles:20251011T090000
DTEND;TZID=America/Los_Angeles:20251011T130000
DTSTAMP:20260423T052848
CREATED:20251003T170532Z
LAST-MODIFIED:20251003T170618Z
UID:10004448-1760173200-1760187600@dev.chas.org
SUMMARY:CHAS Health Denny Murphy Immunization Clinic
DESCRIPTION:  \n  \n \nCHAS Health Denny Murphy Clinic is hosting a Saturday Immunization Clinic on October 11\,  from 9:00 am-1:00 pm.  Call ahead to schedule your vaccine appointment time at 509.444.8200 \, but walkin’s are always welcome.  Get your flu shot!
URL:https://dev.chas.org/event/27828/
LOCATION:Denny Murphy Clinic\, 1001 W. 2nd Ave.\, Spokane\, WA\, 99201\, United States
CATEGORIES:Vaccine Clinic
ATTACH;FMTTYPE=image/jpeg:https://dev.chas.org/wp-content/uploads/2021/01/denny-murphy2.jpg
END:VEVENT
BEGIN:VEVENT
DTSTART;TZID=America/Los_Angeles:20251011T080000
DTEND;TZID=America/Los_Angeles:20251011T120000
DTSTAMP:20260423T052848
CREATED:20251003T170156Z
LAST-MODIFIED:20251010T181525Z
UID:10004447-1760169600-1760184000@dev.chas.org
SUMMARY:CHAS Health Southgate Clinic Immunization Clinic
DESCRIPTION:  \nCHAS Health Southgate clinic is hosting a Saturday Immunization Clinic on October 11\,from 8:00 am -12:00 pm.  Call ahead to schedule your vaccine appointment time at 509.444.8200 \, but walk in’s are always welcome.  Get your flu shot!
URL:https://dev.chas.org/event/chas-health-southgate-clinic-immunization-clinic/
LOCATION:Southgate Clinic\, 5620 S. Regal St. Suite 11 Spokane\, WA\, Spokane\, WA\, 99223\, United States
CATEGORIES:Vaccine Clinic
ATTACH;FMTTYPE=image/jpeg:https://dev.chas.org/wp-content/uploads/2021/01/og-southgate.jpg
END:VEVENT
BEGIN:VEVENT
DTSTART;TZID=America/Los_Angeles:20241109T090000
DTEND;TZID=America/Los_Angeles:20241109T130000
DTSTAMP:20260423T052848
CREATED:20241001T161752Z
LAST-MODIFIED:20241001T162845Z
UID:10000672-1731142800-1731157200@dev.chas.org
SUMMARY:CHAS Health North County Clinic Immunization Clinic
DESCRIPTION:CHAS Health North County Clinic in Deer Park is hosting a Saturday Immunization Clinic on November\, 9  from 9:00 am-1:00 pm.  Call ahead to schedule your vaccine appointment time at 509.444.8200 \, but walkin’s are always welcome.  Get your flu shot and COVID-19 booster! \n 
URL:https://dev.chas.org/event/chas-health-north-county-clinic-immunization-clinic-2/
LOCATION:North County Clinic\, 401 S. Main St.\, Deer Park\, WA\, 99006\, United States
CATEGORIES:Vaccine Clinic
ATTACH;FMTTYPE=image/jpeg:https://dev.chas.org/wp-content/uploads/2021/01/Deer_Park_Exterior_Update-4.jpg
END:VEVENT
BEGIN:VEVENT
DTSTART;TZID=America/Los_Angeles:20241029T130000
DTEND;TZID=America/Los_Angeles:20241029T150000
DTSTAMP:20260423T052848
CREATED:20241008T220630Z
LAST-MODIFIED:20241014T201302Z
UID:10000717-1730206800-1730214000@dev.chas.org
SUMMARY:Resources and Flu Clinic
DESCRIPTION:FluWhat: Mobile Flu Clinic/Resources\nWho: Idaho Mobile Med\nWhen: Tuesday October 29 1pm – 3pm\nWhere: Salvation Army 1220 21st St. Lewiston\, ID. 83501
URL:https://dev.chas.org/event/resources-and-flu-clinic/
LOCATION:Lewiston Salvation Army\, 1220\, Lewiston\, ID\, 83501\, United States
CATEGORIES:Mobile Clinic,Vaccine Clinic
ATTACH;FMTTYPE=image/jpeg:https://dev.chas.org/wp-content/uploads/2024/04/mobile-clinic-wide-6.jpg
END:VEVENT
BEGIN:VEVENT
DTSTART;VALUE=DATE:20241029
DTEND;VALUE=DATE:20241030
DTSTAMP:20260423T052848
CREATED:20241001T165506Z
LAST-MODIFIED:20241001T165506Z
UID:10000677-1730160000-1730246399@dev.chas.org
SUMMARY:Immunization Clinic at Spokane Pediatrics
DESCRIPTION:Spokane Pediatrics a CHAS Health Clinic  is hosting a flu clinic every Tuesday in October. To make an appointment call 509.960.8894
URL:https://dev.chas.org/event/immunization-clinic-at-spokane-pediatrics-5/
LOCATION:Spokane Pediatrics\, 601 W 5th Ave Ste 200\, Spokane\, WA\, 99204\, United States
CATEGORIES:Vaccine Clinic
ATTACH;FMTTYPE=image/png:https://dev.chas.org/wp-content/uploads/2024/08/Spokane-Pediatrics-Logo_CMYK.png
END:VEVENT
BEGIN:VEVENT
DTSTART;TZID=America/Los_Angeles:20241026T090000
DTEND;TZID=America/Los_Angeles:20241026T150000
DTSTAMP:20260423T052848
CREATED:20241024T172824Z
LAST-MODIFIED:20241024T172824Z
UID:10000718-1729933200-1729954800@dev.chas.org
SUMMARY:CHAS Health Valley Clinic Immunization Clinic
DESCRIPTION:CHAS Health Valley Clinic  is hosting a Saturday Immunization Clinic on October\, 26  from 9:00 am-3:00 pm.  Call ahead to schedule your vaccine appointment time at 509.444.8200 \, but walkin’s are always welcome.  Get your flu shot and COVID-19 booster! \n 
URL:https://dev.chas.org/event/chas-health-valley-clinic-immunization-clinic/
LOCATION:Valley Clinic\, 15812 E. Indiana Ave.\, Spokane\, WA\, 99216\, United States
CATEGORIES:Community Event,Vaccine Clinic
ATTACH;FMTTYPE=image/jpeg:https://dev.chas.org/wp-content/uploads/2024/04/Valley-Clinic-resized.jpg
END:VEVENT
BEGIN:VEVENT
DTSTART;TZID=America/Los_Angeles:20241025T090000
DTEND;TZID=America/Los_Angeles:20241025T130000
DTSTAMP:20260423T052848
CREATED:20241008T220208Z
LAST-MODIFIED:20241014T201433Z
UID:10000716-1729846800-1729861200@dev.chas.org
SUMMARY:Mobile Resources and Flu Clinic
DESCRIPTION:What: Mobile Flu Clinic/Resources\nWho: Idaho Mobile Med\nWhen: Friday October 25 9 am to 1 pm.\nWhere: Idaho Food Bank 3331 10th St. Lewiston\, ID 83501
URL:https://dev.chas.org/event/mobile-resources-and-flu-clinic/
LOCATION:Idaho Foodbank Warehouse\, 3331 10th St\, Lewiston\, ID\, 83501\, United States
CATEGORIES:Community Event,Community Outreach,Mobile Clinic,Vaccine Clinic
ATTACH;FMTTYPE=image/jpeg:https://dev.chas.org/wp-content/uploads/2024/04/mobile-clinic-wide-6.jpg
END:VEVENT
BEGIN:VEVENT
DTSTART;VALUE=DATE:20241022
DTEND;VALUE=DATE:20241023
DTSTAMP:20260423T052848
CREATED:20241001T165409Z
LAST-MODIFIED:20241001T165409Z
UID:10000676-1729555200-1729641599@dev.chas.org
SUMMARY:Immunization Clinic at Spokane Pediatrics
DESCRIPTION:Spokane Pediatrics a CHAS Health Clinic  is hosting a flu clinic every Tuesday in October. To make an appointment call 509.960.8894
URL:https://dev.chas.org/event/immunization-clinic-at-spokane-pediatrics-4/
LOCATION:Spokane Pediatrics\, 601 W 5th Ave Ste 200\, Spokane\, WA\, 99204\, United States
CATEGORIES:Vaccine Clinic
ATTACH;FMTTYPE=image/png:https://dev.chas.org/wp-content/uploads/2024/08/Spokane-Pediatrics-Logo_CMYK.png
END:VEVENT
BEGIN:VEVENT
DTSTART;TZID=America/Los_Angeles:20241015T110000
DTEND;TZID=America/Los_Angeles:20241015T123000
DTSTAMP:20260423T052848
CREATED:20241008T215732Z
LAST-MODIFIED:20241014T200623Z
UID:10000715-1728990000-1728995400@dev.chas.org
SUMMARY:Immunization Clinic
DESCRIPTION:What: Flu Clinic\nWho: Idaho Mobile Med\nWhen: Wednesday October 16 11am to 12:30pm\nWhere: Lutheran Church 100 N Main Troy\, Idaho 83871
URL:https://dev.chas.org/event/immunization-clinic/
LOCATION:Troy Lutheran Church\, 100 N Main\, Troy\, ID\, 83871\, United States
CATEGORIES:Mobile Clinic,Vaccine Clinic
ATTACH;FMTTYPE=image/jpeg:https://dev.chas.org/wp-content/uploads/2024/04/mobile-clinic-wide-6.jpg
END:VEVENT
BEGIN:VEVENT
DTSTART;VALUE=DATE:20241015
DTEND;VALUE=DATE:20241016
DTSTAMP:20260423T052848
CREATED:20241001T165316Z
LAST-MODIFIED:20241001T165316Z
UID:10000675-1728950400-1729036799@dev.chas.org
SUMMARY:Immunization Clinic at Spokane Pediatrics
DESCRIPTION:Spokane Pediatrics a CHAS Health Clinic  is hosting a flu clinic every Tuesday in October. To make an appointment call 509.960.8894
URL:https://dev.chas.org/event/immunization-clinic-at-spokane-pediatrics-3/
LOCATION:Spokane Pediatrics\, 601 W 5th Ave Ste 200\, Spokane\, WA\, 99204\, United States
CATEGORIES:Vaccine Clinic
ATTACH;FMTTYPE=image/png:https://dev.chas.org/wp-content/uploads/2024/08/Spokane-Pediatrics-Logo_CMYK.png
END:VEVENT
BEGIN:VEVENT
DTSTART;TZID=America/Los_Angeles:20241012T080000
DTEND;TZID=America/Los_Angeles:20241012T120000
DTSTAMP:20260423T052848
CREATED:20241001T160250Z
LAST-MODIFIED:20241001T160250Z
UID:10000671-1728720000-1728734400@dev.chas.org
SUMMARY:Immunization Clinic at Southgate Clinic
DESCRIPTION:CHAS Health will host an immunization clinic on Saturday\, October 12\, 2024 from 8:00 am-12:00 pm. No appointment needed to receive an your immunizations. \n 
URL:https://dev.chas.org/event/immunization-clinic-at-southgate-clinic/
LOCATION:Southgate Clinic\, 5620 S. Regal St. Suite 11 Spokane\, WA\, Spokane\, WA\, 99223\, United States
CATEGORIES:Vaccine Clinic
ATTACH;FMTTYPE=image/jpeg:https://dev.chas.org/wp-content/uploads/2024/10/09-019-24-NOM-CHAS-Southgate-Immunization-Clinic-Flyer-scaled.jpg
END:VEVENT
BEGIN:VEVENT
DTSTART;VALUE=DATE:20241008
DTEND;VALUE=DATE:20241009
DTSTAMP:20260423T052848
CREATED:20241001T165057Z
LAST-MODIFIED:20241001T165057Z
UID:10000674-1728345600-1728431999@dev.chas.org
SUMMARY:Immunization Clinic at Spokane Pediatrics
DESCRIPTION:Spokane Pediatrics a CHAS Health Clinic  is hosting a flu clinic every Tuesday in October. To make an appointment call 509.960.8894
URL:https://dev.chas.org/event/immunization-clinic-at-spokane-pediatrics-2/
LOCATION:Spokane Pediatrics\, 601 W 5th Ave Ste 200\, Spokane\, WA\, 99204\, United States
CATEGORIES:Vaccine Clinic
ATTACH;FMTTYPE=image/png:https://dev.chas.org/wp-content/uploads/2024/08/Spokane-Pediatrics-Logo_CMYK.png
END:VEVENT
BEGIN:VEVENT
DTSTART;VALUE=DATE:20241001
DTEND;VALUE=DATE:20241002
DTSTAMP:20260423T052848
CREATED:20241001T164528Z
LAST-MODIFIED:20241001T165208Z
UID:10000673-1727740800-1727827199@dev.chas.org
SUMMARY:Immunization Clinic at Spokane Pediatrics
DESCRIPTION:Spokane Pediatrics a CHAS Health Clinic  is hosting a flu clinic every Tuesday in October. To make an appointment call 509.960.8894
URL:https://dev.chas.org/event/immunization-clinic-at-spokane-pediatrics/
LOCATION:Spokane Pediatrics\, 601 W 5th Ave Ste 200\, Spokane\, WA\, 99204\, United States
CATEGORIES:Vaccine Clinic
ATTACH;FMTTYPE=image/png:https://dev.chas.org/wp-content/uploads/2024/08/Spokane-Pediatrics-Logo_CMYK.png
END:VEVENT
BEGIN:VEVENT
DTSTART;TZID=America/Los_Angeles:20231209T080000
DTEND;TZID=America/Los_Angeles:20231209T120000
DTSTAMP:20260423T052848
CREATED:20231121T233133Z
LAST-MODIFIED:20231121T233133Z
UID:10000492-1702108800-1702123200@dev.chas.org
SUMMARY:CHAS Health Perry Street Clinic Immunization Clinic
DESCRIPTION:CHAS Health Perry Street Clinic is hosting a Saturday Immunization Clinic on December 9 from 8:00 am to 12:00 pm. Get your seasonal immunization.
URL:https://dev.chas.org/event/chas-health-perry-street-clinic-immunization-clinic/
LOCATION:CHAS Perry Street Parking Lot\, 817 S. Perry Street Ste B\, Spokane\, WA\, 99202\, United States
CATEGORIES:Vaccine Clinic
END:VEVENT
BEGIN:VEVENT
DTSTART;TZID=America/Los_Angeles:20231129T180000
DTEND;TZID=America/Los_Angeles:20231129T200000
DTSTAMP:20260423T052849
CREATED:20231121T223940Z
LAST-MODIFIED:20231121T233211Z
UID:10000493-1701280800-1701288000@dev.chas.org
SUMMARY:CHAS Health Lewis & Clark Health Center Immunization Clinic
DESCRIPTION:CHAS Health Lewis & Clark Health Center is hosting an Immunization Clinic on November 29 from 6:00 to 8:00 pm. Get your seasonal immunizations! \n  \n \n 
URL:https://dev.chas.org/event/chas-health-lewis-clark-health-center-immunization-clinic/
LOCATION:Lewis & Clark Health Center\, 1203 Idaho St.\, Lewiston\, ID\, 83501
CATEGORIES:Vaccine Clinic
END:VEVENT
BEGIN:VEVENT
DTSTART;TZID=America/Los_Angeles:20231104T080000
DTEND;TZID=America/Los_Angeles:20231104T130000
DTSTAMP:20260423T052849
CREATED:20231025T231733Z
LAST-MODIFIED:20231025T231733Z
UID:10000477-1699084800-1699102800@dev.chas.org
SUMMARY:CHAS Health North County Clinic Immunization Clinic
DESCRIPTION:CHAS Health North County Clinic in Deer Park is hosting a Saturday Immunization Clinic on November 4th from 8:00 am too 1:00 pm. Get your flu shot and COVID-19 booster!
URL:https://dev.chas.org/event/chas-health-north-county-clinic-immunization-clinic/
LOCATION:North County Clinic\, 401 S. Main St.\, Deer Park\, WA\, 99006\, United States
CATEGORIES:Vaccine Clinic
END:VEVENT
BEGIN:VEVENT
DTSTART;TZID=America/Los_Angeles:20230216T100000
DTEND;TZID=America/Los_Angeles:20230216T150000
DTSTAMP:20260423T052849
CREATED:20230206T211536Z
LAST-MODIFIED:20230206T211536Z
UID:10000400-1676541600-1676559600@dev.chas.org
SUMMARY:Flu & COVID Vaccine Clinic in Colfax
DESCRIPTION:CHAS Health Mobile Clinic is coming to your community. Please call 509.444.8200 or visit chas.org/mobile-clinic for the location and dates or schedule an appointment.
URL:https://dev.chas.org/event/flu-covid-vaccine-clinic-in-colfax/
LOCATION:Rosauers Colfax\, WA\, 623 N. Main Street\, Colfax\, 99111
CATEGORIES:Community Event,Community Outreach,Mobile Clinic,Vaccine Clinic
ATTACH;FMTTYPE=image/jpeg:https://dev.chas.org/wp-content/uploads/2021/07/mobile-clinic-taco-night.jpg
ORGANIZER;CN="CHAS Health":MAILTO:communications@chas.org
END:VEVENT
BEGIN:VEVENT
DTSTART;TZID=America/Los_Angeles:20230105T090000
DTEND;TZID=America/Los_Angeles:20230105T120000
DTSTAMP:20260423T052849
CREATED:20221229T194930Z
LAST-MODIFIED:20221229T195245Z
UID:10000392-1672909200-1672920000@dev.chas.org
SUMMARY:Flu & COVID Vaccine Clinic
DESCRIPTION:CHAS Health Mobile Clinic is coming to your community. Please call 509.444.8200 or visit chas.org/mobile-clinic for the location and dates or schedule an appointment.
URL:https://dev.chas.org/event/flu-covid-vaccine-clinic-2/
LOCATION:Rosauers\, 130 S. Arthur Street\, Spokane\, WA\, 99202\, United States
CATEGORIES:Community Event,Community Outreach,Mobile Clinic,Vaccine Clinic
ATTACH;FMTTYPE=image/jpeg:https://dev.chas.org/wp-content/uploads/2021/07/mobile-clinic-taco-night.jpg
ORGANIZER;CN="CHAS Health":MAILTO:communications@chas.org
END:VEVENT
BEGIN:VEVENT
DTSTART;TZID=America/Los_Angeles:20221228T153000
DTEND;TZID=America/Los_Angeles:20221228T190000
DTSTAMP:20260423T052849
CREATED:20221219T224619Z
LAST-MODIFIED:20221221T160030Z
UID:10000391-1672241400-1672254000@dev.chas.org
SUMMARY:Flu & COVID Vaccine Clinic
DESCRIPTION:Join CHAS Health for Flu and COVID Vaccines. Interpreter Services are available. Insurance Enrollment Support is available. Insurance will be billed for services\, Income-Based Sliding Fee Scale is Available. Call 509-444-8200 or visit chas.org to schedule. \nSchedule Online
URL:https://dev.chas.org/event/flu-covid-vaccine-clinic/
LOCATION:Knox Presbyterian Church\, 806 W. Knox Ave.\, Spokane\, WA\, 99205\, United States
CATEGORIES:Community Event,Community Outreach,Mobile Clinic,Vaccine Clinic
ATTACH;FMTTYPE=image/jpeg:https://dev.chas.org/wp-content/uploads/2021/07/mobile-clinic-taco-night.jpg
ORGANIZER;CN="Manzanita House":MAILTO:info@mhspokane.org
END:VEVENT
BEGIN:VEVENT
DTSTART;TZID=America/Los_Angeles:20221029T090000
DTEND;TZID=America/Los_Angeles:20221029T150000
DTSTAMP:20260423T052849
CREATED:20221010T225628Z
LAST-MODIFIED:20221010T225628Z
UID:10000387-1667034000-1667055600@dev.chas.org
SUMMARY:Flu Vaccine Clinic
DESCRIPTION:CHAS Health will be hosting a Saturday flu clinic. Register an appointment time online and get vaccinated against the flu! \nRegister Online
URL:https://dev.chas.org/event/flu-vaccine-clinic-3/
LOCATION:Maple Street Clinic\, 3919 N. Maple St.\, Spokane\, WA\, 99205\, United States
CATEGORIES:Vaccine Clinic
ATTACH;FMTTYPE=image/jpeg:https://dev.chas.org/wp-content/uploads/2022/10/flu-vaccines-2022.jpg
ORGANIZER;CN="CHAS Health":MAILTO:communications@chas.org
END:VEVENT
BEGIN:VEVENT
DTSTART;TZID=America/Los_Angeles:20221022T090000
DTEND;TZID=America/Los_Angeles:20221022T150000
DTSTAMP:20260423T052849
CREATED:20221010T225049Z
LAST-MODIFIED:20221010T225327Z
UID:10000385-1666429200-1666450800@dev.chas.org
SUMMARY:Flu Vaccine Clinic
DESCRIPTION:CHAS Health will be hosting a Saturday flu clinic. Register an appointment time online and get vaccinated against the flu! \nRegister Online
URL:https://dev.chas.org/event/flu-vaccine-clinic/
LOCATION:Valley Clinic\, 15812 E. Indiana Ave.\, Spokane\, WA\, 99216\, United States
CATEGORIES:Vaccine Clinic
ATTACH;FMTTYPE=image/jpeg:https://dev.chas.org/wp-content/uploads/2022/10/flu-vaccines-2022.jpg
ORGANIZER;CN="CHAS Health":MAILTO:communications@chas.org
END:VEVENT
BEGIN:VEVENT
DTSTART;TZID=America/Los_Angeles:20221022T090000
DTEND;TZID=America/Los_Angeles:20221022T130000
DTSTAMP:20260423T052849
CREATED:20221010T225525Z
LAST-MODIFIED:20221010T225525Z
UID:10000386-1666429200-1666443600@dev.chas.org
SUMMARY:Flu Vaccine Clinic
DESCRIPTION:CHAS Health will be hosting a Saturday flu clinic. Register an appointment time online and get vaccinated against the flu! \nRegister Online
URL:https://dev.chas.org/event/flu-vaccine-clinic-2/
LOCATION:North County Clinic\, 401 S. Main St.\, Deer Park\, WA\, 99006\, United States
CATEGORIES:Vaccine Clinic
ATTACH;FMTTYPE=image/jpeg:https://dev.chas.org/wp-content/uploads/2022/10/flu-vaccines-2022.jpg
ORGANIZER;CN="CHAS Health":MAILTO:communications@chas.org
END:VEVENT
BEGIN:VEVENT
DTSTART;TZID=America/Los_Angeles:20211105T080000
DTEND;TZID=America/Los_Angeles:20211105T120000
DTSTAMP:20260423T052849
CREATED:20211027T174127Z
LAST-MODIFIED:20211027T174127Z
UID:10000267-1636099200-1636113600@dev.chas.org
SUMMARY:Mobile Vaccine Clinic
DESCRIPTION:Come see the new CHAS Health Mobile Clinic at the Nez Perce County Fair Grounds on Friday\, November 5th from 8:00 am – Noon!  We will be offering the COVID-19 vaccine and Flu shots to the public. \n﻿
URL:https://dev.chas.org/event/mobile-vaccine-clinic/
LOCATION:Nez Perce Fairgrounds\, 1229 Burrell Avenue\, Lewiston\, ID\, 83501\, United States
CATEGORIES:Community Outreach,Mobile Clinic,Vaccine Clinic
ATTACH;FMTTYPE=image/jpeg:https://dev.chas.org/wp-content/uploads/2021/07/mobile-clinic-taco-night.jpg
ORGANIZER;CN="CHAS Health":MAILTO:communications@chas.org
END:VEVENT
BEGIN:VEVENT
DTSTART;TZID=America/Los_Angeles:20211008T090000
DTEND;TZID=America/Los_Angeles:20211008T140000
DTSTAMP:20260423T052849
CREATED:20211004T164320Z
LAST-MODIFIED:20211004T164320Z
UID:10000265-1633683600-1633701600@dev.chas.org
SUMMARY:Mobile Vaccine Clinic in Lewiston Idaho
DESCRIPTION:The CHAS Health Mobile Clinic will be at the Idaho Foodbank Warehouse on October 8th\, 2021 and will offer COVID-19 and Flu vaccines to the public.  Stop by to check out our newest innovative mobile clinic and get vaccinated!  We’ll see you there! \n﻿
URL:https://dev.chas.org/event/mobile-vaccine-clinic-in-lewiston-idaho/
LOCATION:Idaho Foodbank Warehouse\, 3331 10th St\, Lewiston\, ID\, 83501\, United States
CATEGORIES:Community Outreach,Mobile Clinic,Vaccine Clinic
ATTACH;FMTTYPE=image/jpeg:https://dev.chas.org/wp-content/uploads/2021/08/mobile-clinic-wide.jpg
ORGANIZER;CN="CHAS Health":MAILTO:communications@chas.org
END:VEVENT
BEGIN:VEVENT
DTSTART;TZID=America/Los_Angeles:20210825T100000
DTEND;TZID=America/Los_Angeles:20210825T160000
DTSTAMP:20260423T052849
CREATED:20210813T173520Z
LAST-MODIFIED:20210813T173520Z
UID:10000261-1629885600-1629907200@dev.chas.org
SUMMARY:CHAS Mobile Clinic @ Lewis & Clark State College Welcome Fair
DESCRIPTION:CHAS Health will be offering the COVID-19 vaccines to new and returning Lewis & Clark State College students and staff during the annual Welcome Fair. Community members wanting the vaccine are welcome as well.
URL:https://dev.chas.org/event/chas-mobile-clinic-lewis-clark-state-college-welcome-fair/
LOCATION:Lewis & Clark State College\, 500 8th Ave\, Lewiston\, ID\, 83501\, United States
CATEGORIES:Community Outreach,Mobile Clinic,Vaccine Clinic
ATTACH;FMTTYPE=image/jpeg:https://dev.chas.org/wp-content/uploads/2021/08/mobile-clinic-wide.jpg
END:VEVENT
BEGIN:VEVENT
DTSTART;VALUE=DATE:20210315
DTEND;VALUE=DATE:20210317
DTSTAMP:20260423T052849
CREATED:20210311T184619Z
LAST-MODIFIED:20210316T173656Z
UID:10000225-1615766400-1615939199@dev.chas.org
SUMMARY:Gonzaga University COVID Vaccination Pop-Up Clinic (By Appointment Only)
DESCRIPTION:CHAS Health will be hosting COVID-19 vaccine clinics Monday\, March 15th and Tuesday\, March 16th for members of our community via online scheduling. People who qualify for COVID-19 vaccines under current guidelines are those in Phases 1A and 1B in Washington state\, including pre-K-12 educators\, school district employees\, and licensed child care workers.\nPlease use the Phase Finder to confirm eligibility for a vaccine before scheduling an appointment. Phase Finder results will be confirmed before you can get vaccinated; school employees should bring their work identification with them. Once you have confirmed you are eligible for a vaccine at this time\, visit https://dev.chas.org/21232 to schedule your appointment.
URL:https://dev.chas.org/event/gonzaga-university-covid-vaccination-pop-up-clinic/
LOCATION:Martin Centre @ Gonzaga University\, 702 E Cataldo\, Spokane\, WA\, 99258\, United States
CATEGORIES:Vaccine Clinic
ATTACH;FMTTYPE=image/jpeg:https://dev.chas.org/wp-content/uploads/2021/03/vaccine-appts-now-open.jpg
ORGANIZER;CN="CHAS Health":MAILTO:communications@chas.org
END:VEVENT
END:VCALENDAR