BEGIN:VCALENDAR
VERSION:2.0
PRODID:-//CHAS Health | Doctors, Dentists, Medical Clinics &amp; Pharmacy - ECPv6.15.20//NONSGML v1.0//EN
CALSCALE:GREGORIAN
METHOD:PUBLISH
X-WR-CALNAME:CHAS Health | Doctors, Dentists, Medical Clinics &amp; Pharmacy
X-ORIGINAL-URL:https://dev.chas.org
X-WR-CALDESC:Events for CHAS Health | Doctors, Dentists, Medical Clinics &amp; Pharmacy
REFRESH-INTERVAL;VALUE=DURATION:PT1H
X-Robots-Tag:noindex
X-PUBLISHED-TTL:PT1H
BEGIN:VTIMEZONE
TZID:America/Los_Angeles
BEGIN:DAYLIGHT
TZOFFSETFROM:-0800
TZOFFSETTO:-0700
TZNAME:PDT
DTSTART:20210314T100000
END:DAYLIGHT
BEGIN:STANDARD
TZOFFSETFROM:-0700
TZOFFSETTO:-0800
TZNAME:PST
DTSTART:20211107T090000
END:STANDARD
BEGIN:DAYLIGHT
TZOFFSETFROM:-0800
TZOFFSETTO:-0700
TZNAME:PDT
DTSTART:20220313T100000
END:DAYLIGHT
BEGIN:STANDARD
TZOFFSETFROM:-0700
TZOFFSETTO:-0800
TZNAME:PST
DTSTART:20221106T090000
END:STANDARD
BEGIN:DAYLIGHT
TZOFFSETFROM:-0800
TZOFFSETTO:-0700
TZNAME:PDT
DTSTART:20230312T100000
END:DAYLIGHT
BEGIN:STANDARD
TZOFFSETFROM:-0700
TZOFFSETTO:-0800
TZNAME:PST
DTSTART:20231105T090000
END:STANDARD
BEGIN:DAYLIGHT
TZOFFSETFROM:-0800
TZOFFSETTO:-0700
TZNAME:PDT
DTSTART:20240310T100000
END:DAYLIGHT
BEGIN:STANDARD
TZOFFSETFROM:-0700
TZOFFSETTO:-0800
TZNAME:PST
DTSTART:20241103T090000
END:STANDARD
BEGIN:DAYLIGHT
TZOFFSETFROM:-0800
TZOFFSETTO:-0700
TZNAME:PDT
DTSTART:20250309T100000
END:DAYLIGHT
BEGIN:STANDARD
TZOFFSETFROM:-0700
TZOFFSETTO:-0800
TZNAME:PST
DTSTART:20251102T090000
END:STANDARD
END:VTIMEZONE
BEGIN:VEVENT
DTSTART;VALUE=DATE:20240505
DTEND;VALUE=DATE:20240506
DTSTAMP:20260419T080146
CREATED:20240213T205112Z
LAST-MODIFIED:20240213T205133Z
UID:10000515-1714867200-1714953599@dev.chas.org
SUMMARY:Bloomsday
DESCRIPTION:Bloomsday will return to the streets of Spokane in 2024. We can’t wait to welcome you back to the famed Bloomsday course for our annual spring tradition. Finishers of the in-person race will earn the super-secret Bloomsday 2024 finisher shirt!
URL:https://dev.chas.org/event/bloomsday-2/
CATEGORIES:Community Event
ATTACH;FMTTYPE=image/jpeg:https://dev.chas.org/wp-content/uploads/2022/01/bloomsday-event-og.jpg
END:VEVENT
BEGIN:VEVENT
DTSTART;VALUE=DATE:20220501
DTEND;VALUE=DATE:20220502
DTSTAMP:20260419T080146
CREATED:20220118T181034Z
LAST-MODIFIED:20220118T181034Z
UID:10000293-1651363200-1651449599@dev.chas.org
SUMMARY:Bloomsday
DESCRIPTION:Bloomsday will return to the streets of Spokane in 2022 for the traditional in-person race! We can’t wait to welcome you back to the famed Bloomsday course for our annual spring tradition. Finishers of the in-person race will earn the super-secret Bloomsday 2022 finisher shirt!
URL:https://dev.chas.org/event/bloomsday/
CATEGORIES:Community Event
ATTACH;FMTTYPE=image/jpeg:https://dev.chas.org/wp-content/uploads/2022/01/bloomsday-event-og.jpg
END:VEVENT
END:VCALENDAR