BEGIN:VCALENDAR
VERSION:2.0
PRODID:-//CHAS Health | Doctors, Dentists, Medical Clinics &amp; Pharmacy - ECPv6.15.20//NONSGML v1.0//EN
CALSCALE:GREGORIAN
METHOD:PUBLISH
X-WR-CALNAME:CHAS Health | Doctors, Dentists, Medical Clinics &amp; Pharmacy
X-ORIGINAL-URL:https://dev.chas.org
X-WR-CALDESC:Events for CHAS Health | Doctors, Dentists, Medical Clinics &amp; Pharmacy
REFRESH-INTERVAL;VALUE=DURATION:PT1H
X-Robots-Tag:noindex
X-PUBLISHED-TTL:PT1H
BEGIN:VTIMEZONE
TZID:America/Los_Angeles
BEGIN:DAYLIGHT
TZOFFSETFROM:-0800
TZOFFSETTO:-0700
TZNAME:PDT
DTSTART:20230312T100000
END:DAYLIGHT
BEGIN:STANDARD
TZOFFSETFROM:-0700
TZOFFSETTO:-0800
TZNAME:PST
DTSTART:20231105T090000
END:STANDARD
BEGIN:DAYLIGHT
TZOFFSETFROM:-0800
TZOFFSETTO:-0700
TZNAME:PDT
DTSTART:20240310T100000
END:DAYLIGHT
BEGIN:STANDARD
TZOFFSETFROM:-0700
TZOFFSETTO:-0800
TZNAME:PST
DTSTART:20241103T090000
END:STANDARD
BEGIN:DAYLIGHT
TZOFFSETFROM:-0800
TZOFFSETTO:-0700
TZNAME:PDT
DTSTART:20250309T100000
END:DAYLIGHT
BEGIN:STANDARD
TZOFFSETFROM:-0700
TZOFFSETTO:-0800
TZNAME:PST
DTSTART:20251102T090000
END:STANDARD
BEGIN:DAYLIGHT
TZOFFSETFROM:-0800
TZOFFSETTO:-0700
TZNAME:PDT
DTSTART:20260308T100000
END:DAYLIGHT
BEGIN:STANDARD
TZOFFSETFROM:-0700
TZOFFSETTO:-0800
TZNAME:PST
DTSTART:20261101T090000
END:STANDARD
END:VTIMEZONE
BEGIN:VEVENT
DTSTART;TZID=America/Los_Angeles:20250814T130000
DTEND;TZID=America/Los_Angeles:20250814T160000
DTSTAMP:20260419T081857
CREATED:20250808T212138Z
LAST-MODIFIED:20250813T194516Z
UID:10003808-1755176400-1755187200@dev.chas.org
SUMMARY:CHAS Health Mobile Clinic at Pope Francis Haven
DESCRIPTION:The CHAS Health mobile clinic will be at Pope Francis Haven on August 14\, 2025 located on 16412 E. Sprauge Ave. Spokane Valley\, WA.
URL:https://dev.chas.org/event/chas-health-mobile-clinic-at-pope-francis-haven/
LOCATION:Pope Francis Haven\, 16412 E. Sprague Ave\, Spokane Valley\, 99037
ATTACH;FMTTYPE=image/jpeg:https://dev.chas.org/wp-content/uploads/2024/04/mobile-clinic-wide-6.jpg
END:VEVENT
BEGIN:VEVENT
DTSTART;VALUE=DATE:20241029
DTEND;VALUE=DATE:20241030
DTSTAMP:20260419T081857
CREATED:20241001T165506Z
LAST-MODIFIED:20241001T165506Z
UID:10000677-1730160000-1730246399@dev.chas.org
SUMMARY:Immunization Clinic at Spokane Pediatrics
DESCRIPTION:Spokane Pediatrics a CHAS Health Clinic  is hosting a flu clinic every Tuesday in October. To make an appointment call 509.960.8894
URL:https://dev.chas.org/event/immunization-clinic-at-spokane-pediatrics-5/
LOCATION:Spokane Pediatrics\, 601 W 5th Ave Ste 200\, Spokane\, WA\, 99204\, United States
CATEGORIES:Vaccine Clinic
ATTACH;FMTTYPE=image/png:https://dev.chas.org/wp-content/uploads/2024/08/Spokane-Pediatrics-Logo_CMYK.png
END:VEVENT
BEGIN:VEVENT
DTSTART;VALUE=DATE:20241022
DTEND;VALUE=DATE:20241023
DTSTAMP:20260419T081857
CREATED:20241001T165409Z
LAST-MODIFIED:20241001T165409Z
UID:10000676-1729555200-1729641599@dev.chas.org
SUMMARY:Immunization Clinic at Spokane Pediatrics
DESCRIPTION:Spokane Pediatrics a CHAS Health Clinic  is hosting a flu clinic every Tuesday in October. To make an appointment call 509.960.8894
URL:https://dev.chas.org/event/immunization-clinic-at-spokane-pediatrics-4/
LOCATION:Spokane Pediatrics\, 601 W 5th Ave Ste 200\, Spokane\, WA\, 99204\, United States
CATEGORIES:Vaccine Clinic
ATTACH;FMTTYPE=image/png:https://dev.chas.org/wp-content/uploads/2024/08/Spokane-Pediatrics-Logo_CMYK.png
END:VEVENT
BEGIN:VEVENT
DTSTART;VALUE=DATE:20241015
DTEND;VALUE=DATE:20241016
DTSTAMP:20260419T081857
CREATED:20241001T165316Z
LAST-MODIFIED:20241001T165316Z
UID:10000675-1728950400-1729036799@dev.chas.org
SUMMARY:Immunization Clinic at Spokane Pediatrics
DESCRIPTION:Spokane Pediatrics a CHAS Health Clinic  is hosting a flu clinic every Tuesday in October. To make an appointment call 509.960.8894
URL:https://dev.chas.org/event/immunization-clinic-at-spokane-pediatrics-3/
LOCATION:Spokane Pediatrics\, 601 W 5th Ave Ste 200\, Spokane\, WA\, 99204\, United States
CATEGORIES:Vaccine Clinic
ATTACH;FMTTYPE=image/png:https://dev.chas.org/wp-content/uploads/2024/08/Spokane-Pediatrics-Logo_CMYK.png
END:VEVENT
BEGIN:VEVENT
DTSTART;VALUE=DATE:20241008
DTEND;VALUE=DATE:20241009
DTSTAMP:20260419T081857
CREATED:20241001T165057Z
LAST-MODIFIED:20241001T165057Z
UID:10000674-1728345600-1728431999@dev.chas.org
SUMMARY:Immunization Clinic at Spokane Pediatrics
DESCRIPTION:Spokane Pediatrics a CHAS Health Clinic  is hosting a flu clinic every Tuesday in October. To make an appointment call 509.960.8894
URL:https://dev.chas.org/event/immunization-clinic-at-spokane-pediatrics-2/
LOCATION:Spokane Pediatrics\, 601 W 5th Ave Ste 200\, Spokane\, WA\, 99204\, United States
CATEGORIES:Vaccine Clinic
ATTACH;FMTTYPE=image/png:https://dev.chas.org/wp-content/uploads/2024/08/Spokane-Pediatrics-Logo_CMYK.png
END:VEVENT
BEGIN:VEVENT
DTSTART;VALUE=DATE:20241001
DTEND;VALUE=DATE:20241002
DTSTAMP:20260419T081857
CREATED:20241001T164528Z
LAST-MODIFIED:20241001T165208Z
UID:10000673-1727740800-1727827199@dev.chas.org
SUMMARY:Immunization Clinic at Spokane Pediatrics
DESCRIPTION:Spokane Pediatrics a CHAS Health Clinic  is hosting a flu clinic every Tuesday in October. To make an appointment call 509.960.8894
URL:https://dev.chas.org/event/immunization-clinic-at-spokane-pediatrics/
LOCATION:Spokane Pediatrics\, 601 W 5th Ave Ste 200\, Spokane\, WA\, 99204\, United States
CATEGORIES:Vaccine Clinic
ATTACH;FMTTYPE=image/png:https://dev.chas.org/wp-content/uploads/2024/08/Spokane-Pediatrics-Logo_CMYK.png
END:VEVENT
END:VCALENDAR