BEGIN:VCALENDAR
VERSION:2.0
PRODID:-//CHAS Health | Doctors, Dentists, Medical Clinics &amp; Pharmacy - ECPv6.15.20//NONSGML v1.0//EN
CALSCALE:GREGORIAN
METHOD:PUBLISH
X-ORIGINAL-URL:https://dev.chas.org
X-WR-CALDESC:Events for CHAS Health | Doctors, Dentists, Medical Clinics &amp; Pharmacy
REFRESH-INTERVAL;VALUE=DURATION:PT1H
X-Robots-Tag:noindex
X-PUBLISHED-TTL:PT1H
BEGIN:VTIMEZONE
TZID:America/Los_Angeles
BEGIN:DAYLIGHT
TZOFFSETFROM:-0800
TZOFFSETTO:-0700
TZNAME:PDT
DTSTART:20200308T100000
END:DAYLIGHT
BEGIN:STANDARD
TZOFFSETFROM:-0700
TZOFFSETTO:-0800
TZNAME:PST
DTSTART:20201101T090000
END:STANDARD
BEGIN:DAYLIGHT
TZOFFSETFROM:-0800
TZOFFSETTO:-0700
TZNAME:PDT
DTSTART:20210314T100000
END:DAYLIGHT
BEGIN:STANDARD
TZOFFSETFROM:-0700
TZOFFSETTO:-0800
TZNAME:PST
DTSTART:20211107T090000
END:STANDARD
BEGIN:DAYLIGHT
TZOFFSETFROM:-0800
TZOFFSETTO:-0700
TZNAME:PDT
DTSTART:20220313T100000
END:DAYLIGHT
BEGIN:STANDARD
TZOFFSETFROM:-0700
TZOFFSETTO:-0800
TZNAME:PST
DTSTART:20221106T090000
END:STANDARD
END:VTIMEZONE
BEGIN:VEVENT
DTSTART;TZID=America/Los_Angeles:20210924T100000
DTEND;TZID=America/Los_Angeles:20210924T140000
DTSTAMP:20260419T094339
CREATED:20210809T230323Z
LAST-MODIFIED:20210809T230323Z
UID:10000260-1632477600-1632492000@dev.chas.org
SUMMARY:Eastern Washington University Neighborfest
DESCRIPTION:Large-scale annual campus and community networking event that allows new and returning EWU students and employees to connect with on- and off-campus organizations and resources.
URL:https://dev.chas.org/event/eastern-washington-university-neighborfest/
LOCATION:EWU Campus Mall\, Elm St\, Cheney\, 99004\, United States
CATEGORIES:Community Outreach
ATTACH;FMTTYPE=image/jpeg:https://dev.chas.org/wp-content/uploads/2021/08/ewu-neighborfest-event-og.jpg
END:VEVENT
END:VCALENDAR