BEGIN:VCALENDAR
VERSION:2.0
PRODID:-//CHAS Health | Doctors, Dentists, Medical Clinics &amp; Pharmacy - ECPv6.15.20//NONSGML v1.0//EN
CALSCALE:GREGORIAN
METHOD:PUBLISH
X-WR-CALNAME:CHAS Health | Doctors, Dentists, Medical Clinics &amp; Pharmacy
X-ORIGINAL-URL:https://dev.chas.org
X-WR-CALDESC:Events for CHAS Health | Doctors, Dentists, Medical Clinics &amp; Pharmacy
REFRESH-INTERVAL;VALUE=DURATION:PT1H
X-Robots-Tag:noindex
X-PUBLISHED-TTL:PT1H
BEGIN:VTIMEZONE
TZID:America/Los_Angeles
BEGIN:DAYLIGHT
TZOFFSETFROM:-0800
TZOFFSETTO:-0700
TZNAME:PDT
DTSTART:20220313T100000
END:DAYLIGHT
BEGIN:STANDARD
TZOFFSETFROM:-0700
TZOFFSETTO:-0800
TZNAME:PST
DTSTART:20221106T090000
END:STANDARD
BEGIN:DAYLIGHT
TZOFFSETFROM:-0800
TZOFFSETTO:-0700
TZNAME:PDT
DTSTART:20230312T100000
END:DAYLIGHT
BEGIN:STANDARD
TZOFFSETFROM:-0700
TZOFFSETTO:-0800
TZNAME:PST
DTSTART:20231105T090000
END:STANDARD
BEGIN:DAYLIGHT
TZOFFSETFROM:-0800
TZOFFSETTO:-0700
TZNAME:PDT
DTSTART:20240310T100000
END:DAYLIGHT
BEGIN:STANDARD
TZOFFSETFROM:-0700
TZOFFSETTO:-0800
TZNAME:PST
DTSTART:20241103T090000
END:STANDARD
END:VTIMEZONE
BEGIN:VEVENT
DTSTART;TZID=America/Los_Angeles:20230512T073000
DTEND;TZID=America/Los_Angeles:20230512T090000
DTSTAMP:20260419T154855
CREATED:20230420T190524Z
LAST-MODIFIED:20230420T190524Z
UID:10000402-1683876600-1683882000@dev.chas.org
SUMMARY:Eastern Edge | The Need for Nurses: From Pipeline to Provider Community Forum
DESCRIPTION:Join EWU Friday\, May 12 at the Spokane Club from 7:30 to 9 a.m. for a discussion on our region’s healthcare challenges. From the unique needs of rural and underserved communities to the shortage of professional caregivers right here in Spokane\, this forum features the healthcare leaders who are at the forefront of filling the growing demand for highly-skilled nurses in our region. \nPanel Discussion:\nModerated by Karina Elias\, Spokane Journal of Business \nSpokane’s Nursing Shortage Panel\n\nCindy Fitzgerald\, Providence Health & Services\nAdam Richards\, Providence Health & Services\nJennifer Graham\, MultiCare Health System\nKelley Charvet\, CHAS Health\n\nRural & Underserved Populations Panel\n\nBrady Cass\, Asuris Northwest Health\nJennifer Larmer\, Lincoln Hospital District #3\nWill Matney\, CHAS Health\nJennifer Vigil\, MultiCare Health System\n\nSchedule\n\nDoors open | Networking: 7:30 a.m.\nBreakfast | Panel Discussion: 8 – 9 a.m.
URL:https://dev.chas.org/event/eastern-edge-the-need-for-nurses-from-pipeline-to-provider-community-forum/
LOCATION:The Spokane Club\, 1002 W. Riverside Ave\, Spokane\, WA\, 99201\, United States
ATTACH;FMTTYPE=image/png:https://dev.chas.org/wp-content/uploads/2023/04/eastern-edge-wsecu.png
ORGANIZER;CN="EWU Alumni Association":MAILTO:ewualum@ewu.edu
END:VEVENT
END:VCALENDAR