BEGIN:VCALENDAR
VERSION:2.0
PRODID:-//CHAS Health | Doctors, Dentists, Medical Clinics &amp; Pharmacy - ECPv6.15.20//NONSGML v1.0//EN
CALSCALE:GREGORIAN
METHOD:PUBLISH
X-WR-CALNAME:CHAS Health | Doctors, Dentists, Medical Clinics &amp; Pharmacy
X-ORIGINAL-URL:https://dev.chas.org
X-WR-CALDESC:Events for CHAS Health | Doctors, Dentists, Medical Clinics &amp; Pharmacy
REFRESH-INTERVAL;VALUE=DURATION:PT1H
X-Robots-Tag:noindex
X-PUBLISHED-TTL:PT1H
BEGIN:VTIMEZONE
TZID:America/Los_Angeles
BEGIN:DAYLIGHT
TZOFFSETFROM:-0800
TZOFFSETTO:-0700
TZNAME:PDT
DTSTART:20200308T100000
END:DAYLIGHT
BEGIN:STANDARD
TZOFFSETFROM:-0700
TZOFFSETTO:-0800
TZNAME:PST
DTSTART:20201101T090000
END:STANDARD
BEGIN:DAYLIGHT
TZOFFSETFROM:-0800
TZOFFSETTO:-0700
TZNAME:PDT
DTSTART:20210314T100000
END:DAYLIGHT
BEGIN:STANDARD
TZOFFSETFROM:-0700
TZOFFSETTO:-0800
TZNAME:PST
DTSTART:20211107T090000
END:STANDARD
BEGIN:DAYLIGHT
TZOFFSETFROM:-0800
TZOFFSETTO:-0700
TZNAME:PDT
DTSTART:20220313T100000
END:DAYLIGHT
BEGIN:STANDARD
TZOFFSETFROM:-0700
TZOFFSETTO:-0800
TZNAME:PST
DTSTART:20221106T090000
END:STANDARD
END:VTIMEZONE
BEGIN:VEVENT
DTSTART;TZID=America/Los_Angeles:20210828T110000
DTEND;TZID=America/Los_Angeles:20210828T150000
DTSTAMP:20260419T100345
CREATED:20210809T215121Z
LAST-MODIFIED:20210809T215121Z
UID:10000259-1630148400-1630162800@dev.chas.org
SUMMARY:MLK Jr. Outreach Center Back to School Resource Fair
DESCRIPTION:Free Backpacks filled with school supplies\, Free haircuts\, Free Immunization\, COVID-19 Vaccine and COVID Testing\, Free sneakers & socks (while supplies last) \n﻿
URL:https://dev.chas.org/event/mlk-jr-outreach-center-back-to-school-resource-fair/
LOCATION:Dr. Martin Luther King Jr. Community Center\, 500 S Stone St\, Spokane\, WA\, 99202\, United States
CATEGORIES:Community Outreach
ATTACH;FMTTYPE=image/jpeg:https://dev.chas.org/wp-content/uploads/2021/08/mlk-back-to-school-resource-fair-event-og.jpg
ORGANIZER;CN="Martin Luther King Jr. Family Outreach Center":MAILTO:info@mlkspokane.org
END:VEVENT
END:VCALENDAR