BEGIN:VCALENDAR
VERSION:2.0
PRODID:-//CHAS Health | Doctors, Dentists, Medical Clinics &amp; Pharmacy - ECPv6.15.20//NONSGML v1.0//EN
CALSCALE:GREGORIAN
METHOD:PUBLISH
X-WR-CALNAME:CHAS Health | Doctors, Dentists, Medical Clinics &amp; Pharmacy
X-ORIGINAL-URL:https://dev.chas.org
X-WR-CALDESC:Events for CHAS Health | Doctors, Dentists, Medical Clinics &amp; Pharmacy
REFRESH-INTERVAL;VALUE=DURATION:PT1H
X-Robots-Tag:noindex
X-PUBLISHED-TTL:PT1H
BEGIN:VTIMEZONE
TZID:America/Los_Angeles
BEGIN:DAYLIGHT
TZOFFSETFROM:-0800
TZOFFSETTO:-0700
TZNAME:PDT
DTSTART:20210314T100000
END:DAYLIGHT
BEGIN:STANDARD
TZOFFSETFROM:-0700
TZOFFSETTO:-0800
TZNAME:PST
DTSTART:20211107T090000
END:STANDARD
BEGIN:DAYLIGHT
TZOFFSETFROM:-0800
TZOFFSETTO:-0700
TZNAME:PDT
DTSTART:20220313T100000
END:DAYLIGHT
BEGIN:STANDARD
TZOFFSETFROM:-0700
TZOFFSETTO:-0800
TZNAME:PST
DTSTART:20221106T090000
END:STANDARD
BEGIN:DAYLIGHT
TZOFFSETFROM:-0800
TZOFFSETTO:-0700
TZNAME:PDT
DTSTART:20230312T100000
END:DAYLIGHT
BEGIN:STANDARD
TZOFFSETFROM:-0700
TZOFFSETTO:-0800
TZNAME:PST
DTSTART:20231105T090000
END:STANDARD
END:VTIMEZONE
BEGIN:VEVENT
DTSTART;TZID=America/Los_Angeles:20220514T130000
DTEND;TZID=America/Los_Angeles:20220514T200000
DTSTAMP:20260423T071529
CREATED:20220429T173939Z
LAST-MODIFIED:20220429T174027Z
UID:10000300-1652533200-1652558400@dev.chas.org
SUMMARY:Family Fun Fair
DESCRIPTION:Expo Celebrating Parenthood\nJoin Us at the 10th Family Fun Fair – an Expo Celebrating Parenthood. It’s a jam-packed day filled w/ lots of awesomeness. We are 10 years strong\, thanks to YOU! The 2nd Asian Native Hawaiian Pacific Islander hosted by the Family Guide is also taking place\, the event is rich on celebrating diversity and\, culture during ANHPI Heritage Month.
URL:https://dev.chas.org/event/family-fun-fair/
LOCATION:Riverfront Park\, 507 N Howard Street\, Spokane\, WA\, 99201\, United States
CATEGORIES:Community Event,Community Outreach
ATTACH;FMTTYPE=image/jpeg:https://dev.chas.org/wp-content/uploads/2022/04/family-fun-fair-2022-final.jpg
ORGANIZER;CN="The Family Guide":MAILTO:Charity@thefamilyguide.org
END:VEVENT
END:VCALENDAR