BEGIN:VCALENDAR
VERSION:2.0
PRODID:-//CHAS Health | Doctors, Dentists, Medical Clinics &amp; Pharmacy - ECPv6.15.20//NONSGML v1.0//EN
CALSCALE:GREGORIAN
METHOD:PUBLISH
X-WR-CALNAME:CHAS Health | Doctors, Dentists, Medical Clinics &amp; Pharmacy
X-ORIGINAL-URL:https://dev.chas.org
X-WR-CALDESC:Events for CHAS Health | Doctors, Dentists, Medical Clinics &amp; Pharmacy
REFRESH-INTERVAL;VALUE=DURATION:PT1H
X-Robots-Tag:noindex
X-PUBLISHED-TTL:PT1H
BEGIN:VTIMEZONE
TZID:America/Los_Angeles
BEGIN:DAYLIGHT
TZOFFSETFROM:-0800
TZOFFSETTO:-0700
TZNAME:PDT
DTSTART:20200308T100000
END:DAYLIGHT
BEGIN:STANDARD
TZOFFSETFROM:-0700
TZOFFSETTO:-0800
TZNAME:PST
DTSTART:20201101T090000
END:STANDARD
BEGIN:DAYLIGHT
TZOFFSETFROM:-0800
TZOFFSETTO:-0700
TZNAME:PDT
DTSTART:20210314T100000
END:DAYLIGHT
BEGIN:STANDARD
TZOFFSETFROM:-0700
TZOFFSETTO:-0800
TZNAME:PST
DTSTART:20211107T090000
END:STANDARD
BEGIN:DAYLIGHT
TZOFFSETFROM:-0800
TZOFFSETTO:-0700
TZNAME:PDT
DTSTART:20220313T100000
END:DAYLIGHT
BEGIN:STANDARD
TZOFFSETFROM:-0700
TZOFFSETTO:-0800
TZNAME:PST
DTSTART:20221106T090000
END:STANDARD
BEGIN:DAYLIGHT
TZOFFSETFROM:-0800
TZOFFSETTO:-0700
TZNAME:PDT
DTSTART:20230312T100000
END:DAYLIGHT
BEGIN:STANDARD
TZOFFSETFROM:-0700
TZOFFSETTO:-0800
TZNAME:PST
DTSTART:20231105T090000
END:STANDARD
BEGIN:DAYLIGHT
TZOFFSETFROM:-0800
TZOFFSETTO:-0700
TZNAME:PDT
DTSTART:20240310T100000
END:DAYLIGHT
BEGIN:STANDARD
TZOFFSETFROM:-0700
TZOFFSETTO:-0800
TZNAME:PST
DTSTART:20241103T090000
END:STANDARD
BEGIN:DAYLIGHT
TZOFFSETFROM:-0800
TZOFFSETTO:-0700
TZNAME:PDT
DTSTART:20250309T100000
END:DAYLIGHT
BEGIN:STANDARD
TZOFFSETFROM:-0700
TZOFFSETTO:-0800
TZNAME:PST
DTSTART:20251102T090000
END:STANDARD
END:VTIMEZONE
BEGIN:VEVENT
DTSTART;TZID=America/Los_Angeles:20240502T130000
DTEND;TZID=America/Los_Angeles:20240502T140000
DTSTAMP:20260419T103201
CREATED:20240213T192357Z
LAST-MODIFIED:20240213T193019Z
UID:10000514-1714654800-1714658400@dev.chas.org
SUMMARY:2nd Harvest Mobile Market @ East Central Dental
DESCRIPTION:Second Harvest’s Mobile Market brings healthy food directly to high-need communities throughout the Inland Northwest. Since 2006\, the Mobile Market has provided fresh produce and other groceries at no cost to families\, children and seniors experiencing food insecurity. Thanks to community organizations who sponsored and hosted the events and volunteers who helped distribute the food\, the Mobile Market provided food for 1.4 million meals throughout Eastern Washington and North Idaho last year. \n  \n 
URL:https://dev.chas.org/event/2nd-harvest-mobile-market-east-central-dental/
LOCATION:CHAS Health East Central Dental Clinic\, 2211 E Hartson Ave\, Spokane\, WA\, 99202\, United States
CATEGORIES:Community Event,Community Outreach
ATTACH;FMTTYPE=image/jpeg:https://dev.chas.org/wp-content/uploads/2021/06/og-mobile-market-bus.jpg
ORGANIZER;CN="CHAS Health":MAILTO:communications@chas.org
END:VEVENT
BEGIN:VEVENT
DTSTART;TZID=America/Los_Angeles:20210810T160000
DTEND;TZID=America/Los_Angeles:20210810T173000
DTSTAMP:20260419T103201
CREATED:20210726T184227Z
LAST-MODIFIED:20210726T213125Z
UID:10000251-1628611200-1628616600@dev.chas.org
SUMMARY:East Central Dental Ribbon Cutting
DESCRIPTION:Join us for a ribbon-cutting celebration at CHAS Health East Central Dental Clinic! There will be clinic tours\, food\, dental supplies\, and back-to-school giveaways! We’ll see you there! \n \n  \n﻿
URL:https://dev.chas.org/event/east-central-dental-ribbon-cutting/
LOCATION:CHAS Health East Central Dental Clinic\, 2211 E Hartson Ave\, Spokane\, WA\, 99202\, United States
CATEGORIES:Community Outreach,Ribbon Cutting Ceremony
ATTACH;FMTTYPE=image/jpeg:https://dev.chas.org/wp-content/uploads/2021/07/og-east-central-location.jpg
ORGANIZER;CN="CHAS Health":MAILTO:communications@chas.org
END:VEVENT
END:VCALENDAR