BEGIN:VCALENDAR
VERSION:2.0
PRODID:-//CHAS Health | Doctors, Dentists, Medical Clinics &amp; Pharmacy - ECPv6.15.20//NONSGML v1.0//EN
CALSCALE:GREGORIAN
METHOD:PUBLISH
X-WR-CALNAME:CHAS Health | Doctors, Dentists, Medical Clinics &amp; Pharmacy
X-ORIGINAL-URL:https://dev.chas.org
X-WR-CALDESC:Events for CHAS Health | Doctors, Dentists, Medical Clinics &amp; Pharmacy
REFRESH-INTERVAL;VALUE=DURATION:PT1H
X-Robots-Tag:noindex
X-PUBLISHED-TTL:PT1H
BEGIN:VTIMEZONE
TZID:America/Los_Angeles
BEGIN:DAYLIGHT
TZOFFSETFROM:-0800
TZOFFSETTO:-0700
TZNAME:PDT
DTSTART:20200308T100000
END:DAYLIGHT
BEGIN:STANDARD
TZOFFSETFROM:-0700
TZOFFSETTO:-0800
TZNAME:PST
DTSTART:20201101T090000
END:STANDARD
BEGIN:DAYLIGHT
TZOFFSETFROM:-0800
TZOFFSETTO:-0700
TZNAME:PDT
DTSTART:20210314T100000
END:DAYLIGHT
BEGIN:STANDARD
TZOFFSETFROM:-0700
TZOFFSETTO:-0800
TZNAME:PST
DTSTART:20211107T090000
END:STANDARD
BEGIN:DAYLIGHT
TZOFFSETFROM:-0800
TZOFFSETTO:-0700
TZNAME:PDT
DTSTART:20220313T100000
END:DAYLIGHT
BEGIN:STANDARD
TZOFFSETFROM:-0700
TZOFFSETTO:-0800
TZNAME:PST
DTSTART:20221106T090000
END:STANDARD
BEGIN:DAYLIGHT
TZOFFSETFROM:-0800
TZOFFSETTO:-0700
TZNAME:PDT
DTSTART:20230312T100000
END:DAYLIGHT
BEGIN:STANDARD
TZOFFSETFROM:-0700
TZOFFSETTO:-0800
TZNAME:PST
DTSTART:20231105T090000
END:STANDARD
BEGIN:DAYLIGHT
TZOFFSETFROM:-0800
TZOFFSETTO:-0700
TZNAME:PDT
DTSTART:20240310T100000
END:DAYLIGHT
BEGIN:STANDARD
TZOFFSETFROM:-0700
TZOFFSETTO:-0800
TZNAME:PST
DTSTART:20241103T090000
END:STANDARD
BEGIN:DAYLIGHT
TZOFFSETFROM:-0800
TZOFFSETTO:-0700
TZNAME:PDT
DTSTART:20250309T100000
END:DAYLIGHT
BEGIN:STANDARD
TZOFFSETFROM:-0700
TZOFFSETTO:-0800
TZNAME:PST
DTSTART:20251102T090000
END:STANDARD
END:VTIMEZONE
BEGIN:VEVENT
DTSTART;TZID=America/Los_Angeles:20240509T130000
DTEND;TZID=America/Los_Angeles:20240509T140000
DTSTAMP:20260419T064615
CREATED:20240213T192101Z
LAST-MODIFIED:20240213T192101Z
UID:10000513-1715259600-1715263200@dev.chas.org
SUMMARY:2nd Harvest Mobile Market @ Family Dental
DESCRIPTION:Second Harvest’s Mobile Market brings healthy food directly to high-need communities throughout the Inland Northwest. Since 2006\, the Mobile Market has provided fresh produce and other groceries at no cost to families\, children and seniors experiencing food insecurity. Thanks to community organizations who sponsored and hosted the events and volunteers who helped distribute the food\, the Mobile Market provided food for 1.4 million meals throughout Eastern Washington and North Idaho last year. \n﻿
URL:https://dev.chas.org/event/2nd-harvest-mobile-market-family-dental-6/
LOCATION:CHAS Health Family Dental Parking Lot\, 203 E Dalke Ave\, Spokane\, WA\, 99208\, United States
CATEGORIES:Community Event,Community Outreach
ATTACH;FMTTYPE=image/jpeg:https://dev.chas.org/wp-content/uploads/2021/06/og-mobile-market-bus.jpg
ORGANIZER;CN="CHAS Health":MAILTO:communications@chas.org
END:VEVENT
BEGIN:VEVENT
DTSTART;TZID=America/Los_Angeles:20230720T140000
DTEND;TZID=America/Los_Angeles:20230720T150000
DTSTAMP:20260419T064615
CREATED:20230607T160643Z
LAST-MODIFIED:20230607T160643Z
UID:10000413-1689861600-1689865200@dev.chas.org
SUMMARY:2nd Harvest Mobile Market @ Family Dental
DESCRIPTION:Second Harvest’s Mobile Market brings healthy food directly to high-need communities throughout the Inland Northwest. Since 2006\, the Mobile Market has provided fresh produce and other groceries at no cost to families\, children and seniors experiencing food insecurity. Thanks to community organizations who sponsored and hosted the events and volunteers who helped distribute the food\, the Mobile Market provided food for 1.4 million meals throughout Eastern Washington and North Idaho last year. \n﻿
URL:https://dev.chas.org/event/2nd-harvest-mobile-market-family-dental-5/
LOCATION:CHAS Health Family Dental Parking Lot\, 203 E Dalke Ave\, Spokane\, WA\, 99208\, United States
CATEGORIES:Community Event,Community Outreach
ATTACH;FMTTYPE=image/jpeg:https://dev.chas.org/wp-content/uploads/2021/06/og-mobile-market-bus.jpg
ORGANIZER;CN="CHAS Health":MAILTO:communications@chas.org
END:VEVENT
BEGIN:VEVENT
DTSTART;TZID=America/Los_Angeles:20230309T140000
DTEND;TZID=America/Los_Angeles:20230309T150000
DTSTAMP:20260419T064615
CREATED:20220126T234134Z
LAST-MODIFIED:20230223T173636Z
UID:10000295-1678370400-1678374000@dev.chas.org
SUMMARY:2nd Harvest Mobile Market @ Family Dental
DESCRIPTION:Second Harvest’s Mobile Market brings healthy food directly to high-need communities throughout the Inland Northwest. Since 2006\, the Mobile Market has provided fresh produce and other groceries at no cost to families\, children and seniors experiencing food insecurity. Thanks to community organizations who sponsored and hosted the events and volunteers who helped distribute the food\, the Mobile Market provided food for 1.4 million meals throughout Eastern Washington and North Idaho last year. \n﻿
URL:https://dev.chas.org/event/2nd-harvest-mobile-market-family-dental-4/
LOCATION:CHAS Health Family Dental Parking Lot\, 203 E Dalke Ave\, Spokane\, WA\, 99208\, United States
CATEGORIES:Community Event,Community Outreach
ATTACH;FMTTYPE=image/jpeg:https://dev.chas.org/wp-content/uploads/2021/06/og-mobile-market-bus.jpg
ORGANIZER;CN="CHAS Health":MAILTO:communications@chas.org
END:VEVENT
BEGIN:VEVENT
DTSTART;TZID=America/Los_Angeles:20211202T100000
DTEND;TZID=America/Los_Angeles:20211202T110000
DTSTAMP:20260419T064615
CREATED:20210730T195257Z
LAST-MODIFIED:20210803T203338Z
UID:10000254-1638439200-1638442800@dev.chas.org
SUMMARY:2nd Harvest Mobile Market @ Family Dental
DESCRIPTION:Second Harvest’s Mobile Market brings healthy food directly to high-need communities throughout the Inland Northwest. Since 2006\, the Mobile Market has provided fresh produce and other groceries at no cost to families\, children and seniors experiencing food insecurity. Thanks to community organizations who sponsored and hosted the events and volunteers who helped distribute the food\, the Mobile Market provided food for 1.4 million meals throughout Eastern Washington and North Idaho last year.
URL:https://dev.chas.org/event/2nd-harvest-mobile-market-family-dental-3/
LOCATION:CHAS Health Family Dental Parking Lot\, 203 E Dalke Ave\, Spokane\, WA\, 99208\, United States
CATEGORIES:Community Outreach
ATTACH;FMTTYPE=image/jpeg:https://dev.chas.org/wp-content/uploads/2021/06/og-mobile-market-bus.jpg
ORGANIZER;CN="CHAS Health":MAILTO:communications@chas.org
END:VEVENT
BEGIN:VEVENT
DTSTART;TZID=America/Los_Angeles:20210907T100000
DTEND;TZID=America/Los_Angeles:20210907T230000
DTSTAMP:20260419T064615
CREATED:20210730T194053Z
LAST-MODIFIED:20210730T194120Z
UID:10000253-1631008800-1631055600@dev.chas.org
SUMMARY:2nd Harvest Mobile Market @ Family Dental
DESCRIPTION:Second Harvest’s Mobile Market brings healthy food directly to high-need communities throughout the Inland Northwest. Since 2006\, the Mobile Market has provided fresh produce and other groceries at no cost to families\, children and seniors experiencing food insecurity. Thanks to community organizations who sponsored and hosted the events and volunteers who helped distribute the food\, the Mobile Market provided food for 1.4 million meals throughout Eastern Washington and North Idaho last year. \n﻿
URL:https://dev.chas.org/event/2nd-harvest-mobile-market-family-dental-2/
LOCATION:CHAS Health Family Dental Parking Lot\, 203 E Dalke Ave\, Spokane\, WA\, 99208\, United States
CATEGORIES:Community Outreach
ATTACH;FMTTYPE=image/jpeg:https://dev.chas.org/wp-content/uploads/2021/06/og-mobile-market-bus.jpg
ORGANIZER;CN="CHAS Health":MAILTO:communications@chas.org
END:VEVENT
BEGIN:VEVENT
DTSTART;TZID=America/Los_Angeles:20210805T130000
DTEND;TZID=America/Los_Angeles:20210805T140000
DTSTAMP:20260419T064615
CREATED:20210730T193644Z
LAST-MODIFIED:20210803T203229Z
UID:10000252-1628168400-1628172000@dev.chas.org
SUMMARY:2nd Harvest Mobile Market @ Family Dental
DESCRIPTION:Second Harvest’s Mobile Market brings healthy food directly to high-need communities throughout the Inland Northwest. Since 2006\, the Mobile Market has provided fresh produce and other groceries at no cost to families\, children and seniors experiencing food insecurity. Thanks to community organizations who sponsored and hosted the events and volunteers who helped distribute the food\, the Mobile Market provided food for 1.4 million meals throughout Eastern Washington and North Idaho last year.\n﻿
URL:https://dev.chas.org/event/2nd-harvest-mobile-market-family-dental/
LOCATION:CHAS Health Family Dental Parking Lot\, 203 E Dalke Ave\, Spokane\, WA\, 99208\, United States
ATTACH;FMTTYPE=image/jpeg:https://dev.chas.org/wp-content/uploads/2021/06/og-mobile-market-bus.jpg
ORGANIZER;CN="CHAS Health":MAILTO:communications@chas.org
END:VEVENT
END:VCALENDAR