BEGIN:VCALENDAR
VERSION:2.0
PRODID:-//CHAS Health | Doctors, Dentists, Medical Clinics &amp; Pharmacy - ECPv6.15.20//NONSGML v1.0//EN
CALSCALE:GREGORIAN
METHOD:PUBLISH
X-ORIGINAL-URL:https://dev.chas.org
X-WR-CALDESC:Events for CHAS Health | Doctors, Dentists, Medical Clinics &amp; Pharmacy
REFRESH-INTERVAL;VALUE=DURATION:PT1H
X-Robots-Tag:noindex
X-PUBLISHED-TTL:PT1H
BEGIN:VTIMEZONE
TZID:America/Los_Angeles
BEGIN:DAYLIGHT
TZOFFSETFROM:-0800
TZOFFSETTO:-0700
TZNAME:PDT
DTSTART:20220313T100000
END:DAYLIGHT
BEGIN:STANDARD
TZOFFSETFROM:-0700
TZOFFSETTO:-0800
TZNAME:PST
DTSTART:20221106T090000
END:STANDARD
BEGIN:DAYLIGHT
TZOFFSETFROM:-0800
TZOFFSETTO:-0700
TZNAME:PDT
DTSTART:20230312T100000
END:DAYLIGHT
BEGIN:STANDARD
TZOFFSETFROM:-0700
TZOFFSETTO:-0800
TZNAME:PST
DTSTART:20231105T090000
END:STANDARD
BEGIN:DAYLIGHT
TZOFFSETFROM:-0800
TZOFFSETTO:-0700
TZNAME:PDT
DTSTART:20240310T100000
END:DAYLIGHT
BEGIN:STANDARD
TZOFFSETFROM:-0700
TZOFFSETTO:-0800
TZNAME:PST
DTSTART:20241103T090000
END:STANDARD
END:VTIMEZONE
BEGIN:VEVENT
DTSTART;TZID=America/Los_Angeles:20231025T103000
DTEND;TZID=America/Los_Angeles:20231025T133000
DTSTAMP:20260419T122256
CREATED:20230921T215809Z
LAST-MODIFIED:20230921T215809Z
UID:10000448-1698229800-1698240600@dev.chas.org
SUMMARY:CHAS Health Mobile Clinic at Cheney Middle School
DESCRIPTION:The CHAS Health Mobile Clinic will be at Cheney Middle School providing primary care services\, including sports physicals and well-child exams.
URL:https://dev.chas.org/event/chas-health-mobile-clinic-at-cheney-middle-school-2/
LOCATION:Cheney Middle School\, 740 Betz Road\, Cheney\, 99004\, United States
CATEGORIES:Community Outreach,Mobile Clinic
ORGANIZER;CN="CHAS Health":MAILTO:communications@chas.org
END:VEVENT
BEGIN:VEVENT
DTSTART;TZID=America/Los_Angeles:20230927T110000
DTEND;TZID=America/Los_Angeles:20230927T133000
DTSTAMP:20260419T122256
CREATED:20230921T211014Z
LAST-MODIFIED:20230921T211835Z
UID:10000445-1695812400-1695821400@dev.chas.org
SUMMARY:CHAS Health Mobile Clinic at Cheney Middle School
DESCRIPTION:The CHAS Health Mobile Clinic will be at Cheney Middle School providing primary care services\, including sports physicals and well-child exams.
URL:https://dev.chas.org/event/chas-health-mobile-clinic-at-cheney-middle-school/
LOCATION:Cheney Middle School\, 740 Betz Road\, Cheney\, 99004\, United States
CATEGORIES:Community Outreach,Mobile Clinic
ORGANIZER;CN="CHAS Health":MAILTO:communications@chas.org
END:VEVENT
END:VCALENDAR