BEGIN:VCALENDAR
VERSION:2.0
PRODID:-//CHAS Health | Doctors, Dentists, Medical Clinics &amp; Pharmacy - ECPv6.15.20//NONSGML v1.0//EN
CALSCALE:GREGORIAN
METHOD:PUBLISH
X-WR-CALNAME:CHAS Health | Doctors, Dentists, Medical Clinics &amp; Pharmacy
X-ORIGINAL-URL:https://dev.chas.org
X-WR-CALDESC:Events for CHAS Health | Doctors, Dentists, Medical Clinics &amp; Pharmacy
REFRESH-INTERVAL;VALUE=DURATION:PT1H
X-Robots-Tag:noindex
X-PUBLISHED-TTL:PT1H
BEGIN:VTIMEZONE
TZID:America/Los_Angeles
BEGIN:DAYLIGHT
TZOFFSETFROM:-0800
TZOFFSETTO:-0700
TZNAME:PDT
DTSTART:20220313T100000
END:DAYLIGHT
BEGIN:STANDARD
TZOFFSETFROM:-0700
TZOFFSETTO:-0800
TZNAME:PST
DTSTART:20221106T090000
END:STANDARD
BEGIN:DAYLIGHT
TZOFFSETFROM:-0800
TZOFFSETTO:-0700
TZNAME:PDT
DTSTART:20230312T100000
END:DAYLIGHT
BEGIN:STANDARD
TZOFFSETFROM:-0700
TZOFFSETTO:-0800
TZNAME:PST
DTSTART:20231105T090000
END:STANDARD
BEGIN:DAYLIGHT
TZOFFSETFROM:-0800
TZOFFSETTO:-0700
TZNAME:PDT
DTSTART:20240310T100000
END:DAYLIGHT
BEGIN:STANDARD
TZOFFSETFROM:-0700
TZOFFSETTO:-0800
TZNAME:PST
DTSTART:20241103T090000
END:STANDARD
END:VTIMEZONE
BEGIN:VEVENT
DTSTART;TZID=America/Los_Angeles:20230916T100000
DTEND;TZID=America/Los_Angeles:20230916T130000
DTSTAMP:20260423T084005
CREATED:20230825T203115Z
LAST-MODIFIED:20230825T203115Z
UID:10000429-1694858400-1694869200@dev.chas.org
SUMMARY:Run for Joya 5K and Community Fair
DESCRIPTION:  \n \nCheck out the Community Fair! Vendors with community resources will be in attendance; food will be offered\, and some kid activities to enjoy.  We are settling in our neighborhood and would like to invite past and present Joya families and our community. There is no cost to attend the community fair. Feel free to swing by 1016 N. Superior anytime on Sat.\, Sept. 16\, from 10 AM-1 PM.  Say hello to the CHAS Health booth. \n 
URL:https://dev.chas.org/event/run-for-joya-5k-and-community-fair/
LOCATION:Joya\, 1016 N. Superior\, Spokane\, WA\, 99202\, United States
CATEGORIES:Community Event
END:VEVENT
END:VCALENDAR