BEGIN:VCALENDAR
VERSION:2.0
PRODID:-//CHAS Health | Doctors, Dentists, Medical Clinics &amp; Pharmacy - ECPv6.15.20//NONSGML v1.0//EN
CALSCALE:GREGORIAN
METHOD:PUBLISH
X-ORIGINAL-URL:https://dev.chas.org
X-WR-CALDESC:Events for CHAS Health | Doctors, Dentists, Medical Clinics &amp; Pharmacy
REFRESH-INTERVAL;VALUE=DURATION:PT1H
X-Robots-Tag:noindex
X-PUBLISHED-TTL:PT1H
BEGIN:VTIMEZONE
TZID:America/Los_Angeles
BEGIN:DAYLIGHT
TZOFFSETFROM:-0800
TZOFFSETTO:-0700
TZNAME:PDT
DTSTART:20210314T100000
END:DAYLIGHT
BEGIN:STANDARD
TZOFFSETFROM:-0700
TZOFFSETTO:-0800
TZNAME:PST
DTSTART:20211107T090000
END:STANDARD
BEGIN:DAYLIGHT
TZOFFSETFROM:-0800
TZOFFSETTO:-0700
TZNAME:PDT
DTSTART:20220313T100000
END:DAYLIGHT
BEGIN:STANDARD
TZOFFSETFROM:-0700
TZOFFSETTO:-0800
TZNAME:PST
DTSTART:20221106T090000
END:STANDARD
BEGIN:DAYLIGHT
TZOFFSETFROM:-0800
TZOFFSETTO:-0700
TZNAME:PDT
DTSTART:20230312T100000
END:DAYLIGHT
BEGIN:STANDARD
TZOFFSETFROM:-0700
TZOFFSETTO:-0800
TZNAME:PST
DTSTART:20231105T090000
END:STANDARD
END:VTIMEZONE
BEGIN:VEVENT
DTSTART;TZID=America/Los_Angeles:20221228T153000
DTEND;TZID=America/Los_Angeles:20221228T190000
DTSTAMP:20260423T163115
CREATED:20221219T224619Z
LAST-MODIFIED:20221221T160030Z
UID:10000391-1672241400-1672254000@dev.chas.org
SUMMARY:Flu & COVID Vaccine Clinic
DESCRIPTION:Join CHAS Health for Flu and COVID Vaccines. Interpreter Services are available. Insurance Enrollment Support is available. Insurance will be billed for services\, Income-Based Sliding Fee Scale is Available. Call 509-444-8200 or visit chas.org to schedule. \nSchedule Online
URL:https://dev.chas.org/event/flu-covid-vaccine-clinic/
LOCATION:Knox Presbyterian Church\, 806 W. Knox Ave.\, Spokane\, WA\, 99205\, United States
CATEGORIES:Community Event,Community Outreach,Mobile Clinic,Vaccine Clinic
ATTACH;FMTTYPE=image/jpeg:https://dev.chas.org/wp-content/uploads/2021/07/mobile-clinic-taco-night.jpg
ORGANIZER;CN="Manzanita House":MAILTO:info@mhspokane.org
END:VEVENT
BEGIN:VEVENT
DTSTART;TZID=America/Los_Angeles:20220604T100000
DTEND;TZID=America/Los_Angeles:20220604T140000
DTSTAMP:20260423T163115
CREATED:20220509T183007Z
LAST-MODIFIED:20220509T183007Z
UID:10000305-1654336800-1654351200@dev.chas.org
SUMMARY:Community Block Party
DESCRIPTION:Manzanita House invites you to celebrate together! A community summer kick-off event including – Cultural food\, music\, immigrant-owned businesses\, and local organizations! \n  \n 
URL:https://dev.chas.org/event/community-block-party/
LOCATION:Knox Presbyterian Church\, 806 W. Knox Ave.\, Spokane\, WA\, 99205\, United States
CATEGORIES:Community Event,Community Outreach
ATTACH;FMTTYPE=image/jpeg:https://dev.chas.org/wp-content/uploads/2022/05/community-block-party-spring-2022.jpg
ORGANIZER;CN="Manzanita House":MAILTO:info@mhspokane.org
END:VEVENT
END:VCALENDAR