BEGIN:VCALENDAR
VERSION:2.0
PRODID:-//CHAS Health | Doctors, Dentists, Medical Clinics &amp; Pharmacy - ECPv6.15.20//NONSGML v1.0//EN
CALSCALE:GREGORIAN
METHOD:PUBLISH
X-ORIGINAL-URL:https://dev.chas.org
X-WR-CALDESC:Events for CHAS Health | Doctors, Dentists, Medical Clinics &amp; Pharmacy
REFRESH-INTERVAL;VALUE=DURATION:PT1H
X-Robots-Tag:noindex
X-PUBLISHED-TTL:PT1H
BEGIN:VTIMEZONE
TZID:America/Los_Angeles
BEGIN:DAYLIGHT
TZOFFSETFROM:-0800
TZOFFSETTO:-0700
TZNAME:PDT
DTSTART:20200308T100000
END:DAYLIGHT
BEGIN:STANDARD
TZOFFSETFROM:-0700
TZOFFSETTO:-0800
TZNAME:PST
DTSTART:20201101T090000
END:STANDARD
BEGIN:DAYLIGHT
TZOFFSETFROM:-0800
TZOFFSETTO:-0700
TZNAME:PDT
DTSTART:20210314T100000
END:DAYLIGHT
BEGIN:STANDARD
TZOFFSETFROM:-0700
TZOFFSETTO:-0800
TZNAME:PST
DTSTART:20211107T090000
END:STANDARD
BEGIN:DAYLIGHT
TZOFFSETFROM:-0800
TZOFFSETTO:-0700
TZNAME:PDT
DTSTART:20220313T100000
END:DAYLIGHT
BEGIN:STANDARD
TZOFFSETFROM:-0700
TZOFFSETTO:-0800
TZNAME:PST
DTSTART:20221106T090000
END:STANDARD
END:VTIMEZONE
BEGIN:VEVENT
DTSTART;TZID=America/Los_Angeles:20211105T080000
DTEND;TZID=America/Los_Angeles:20211105T120000
DTSTAMP:20260419T154329
CREATED:20211027T174127Z
LAST-MODIFIED:20211027T174127Z
UID:10000267-1636099200-1636113600@dev.chas.org
SUMMARY:Mobile Vaccine Clinic
DESCRIPTION:Come see the new CHAS Health Mobile Clinic at the Nez Perce County Fair Grounds on Friday\, November 5th from 8:00 am – Noon!  We will be offering the COVID-19 vaccine and Flu shots to the public. \n﻿
URL:https://dev.chas.org/event/mobile-vaccine-clinic/
LOCATION:Nez Perce Fairgrounds\, 1229 Burrell Avenue\, Lewiston\, ID\, 83501\, United States
CATEGORIES:Community Outreach,Mobile Clinic,Vaccine Clinic
ATTACH;FMTTYPE=image/jpeg:https://dev.chas.org/wp-content/uploads/2021/07/mobile-clinic-taco-night.jpg
ORGANIZER;CN="CHAS Health":MAILTO:communications@chas.org
END:VEVENT
BEGIN:VEVENT
DTSTART;TZID=America/Los_Angeles:20210810T170000
DTEND;TZID=America/Los_Angeles:20210810T210000
DTSTAMP:20260419T154329
CREATED:20210723T231203Z
LAST-MODIFIED:20210806T202259Z
UID:10000250-1628614800-1628629200@dev.chas.org
SUMMARY:Mobile Clinic @ Food Truck Night
DESCRIPTION:Come see the new CHAS Health Mobile Clinic at the Lewiston Food Truck Night on August 10th from 5-9 pm. Meet our staff and get some free CHAS Health swag to take home! \n \n﻿
URL:https://dev.chas.org/event/food-truck-night/
LOCATION:Nez Perce Fairgrounds\, 1229 Burrell Avenue\, Lewiston\, ID\, 83501\, United States
ATTACH;FMTTYPE=image/jpeg:https://dev.chas.org/wp-content/uploads/2021/07/mobile-clinic-taco-night.jpg
END:VEVENT
END:VCALENDAR