BEGIN:VCALENDAR
VERSION:2.0
PRODID:-//CHAS Health | Doctors, Dentists, Medical Clinics &amp; Pharmacy - ECPv6.15.20//NONSGML v1.0//EN
CALSCALE:GREGORIAN
METHOD:PUBLISH
X-WR-CALNAME:CHAS Health | Doctors, Dentists, Medical Clinics &amp; Pharmacy
X-ORIGINAL-URL:https://dev.chas.org
X-WR-CALDESC:Events for CHAS Health | Doctors, Dentists, Medical Clinics &amp; Pharmacy
REFRESH-INTERVAL;VALUE=DURATION:PT1H
X-Robots-Tag:noindex
X-PUBLISHED-TTL:PT1H
BEGIN:VTIMEZONE
TZID:America/Los_Angeles
BEGIN:DAYLIGHT
TZOFFSETFROM:-0800
TZOFFSETTO:-0700
TZNAME:PDT
DTSTART:20220313T100000
END:DAYLIGHT
BEGIN:STANDARD
TZOFFSETFROM:-0700
TZOFFSETTO:-0800
TZNAME:PST
DTSTART:20221106T090000
END:STANDARD
BEGIN:DAYLIGHT
TZOFFSETFROM:-0800
TZOFFSETTO:-0700
TZNAME:PDT
DTSTART:20230312T100000
END:DAYLIGHT
BEGIN:STANDARD
TZOFFSETFROM:-0700
TZOFFSETTO:-0800
TZNAME:PST
DTSTART:20231105T090000
END:STANDARD
BEGIN:DAYLIGHT
TZOFFSETFROM:-0800
TZOFFSETTO:-0700
TZNAME:PDT
DTSTART:20240310T100000
END:DAYLIGHT
BEGIN:STANDARD
TZOFFSETFROM:-0700
TZOFFSETTO:-0800
TZNAME:PST
DTSTART:20241103T090000
END:STANDARD
END:VTIMEZONE
BEGIN:VEVENT
DTSTART;TZID=America/Los_Angeles:20230222T090000
DTEND;TZID=America/Los_Angeles:20230222T130000
DTSTAMP:20260419T181009
CREATED:20230206T212354Z
LAST-MODIFIED:20230206T212354Z
UID:10000401-1677056400-1677070800@dev.chas.org
SUMMARY:Mobile Clinic
DESCRIPTION:CHAS Health Mobile Clinic is coming to your community. Please call 509.444.8200 or visit chas.org/mobile-clinic for the location and dates or schedule an appointment. The CHAS Health mobile clinic will offer general primary care\, wound care\, blood pressure checks\, education\, and insurance resource support.
URL:https://dev.chas.org/event/mobile-clinic/
LOCATION:North Spokane County Library\, 44 E. Hawthrone Road\, Spokane\, 99218
CATEGORIES:Community Event,Community Outreach,Mobile Clinic
ATTACH;FMTTYPE=image/jpeg:https://dev.chas.org/wp-content/uploads/2021/07/mobile-clinic-taco-night.jpg
ORGANIZER;CN="CHAS Health":MAILTO:communications@chas.org
END:VEVENT
BEGIN:VEVENT
DTSTART;TZID=America/Los_Angeles:20230109T100000
DTEND;TZID=America/Los_Angeles:20230109T150000
DTSTAMP:20260419T181009
CREATED:20221229T200350Z
LAST-MODIFIED:20221229T234845Z
UID:10000394-1673258400-1673276400@dev.chas.org
SUMMARY:Mobile Clinic
DESCRIPTION:CHAS Health Mobile Clinic is coming to your community. Please call 509.444.8200 or visit chas.org/mobile-clinic for the location and dates or schedule an appointment. The CHAS Health mobile clinic will offer general primary care\, wound care\, blood pressure checks\, education\, and insurance resource support. \n  \n 
URL:https://dev.chas.org/event/flu-covid-vaccine-clinic-3/
LOCATION:North Spokane County Library\, 44 E. Hawthrone Road\, Spokane\, 99218
CATEGORIES:Community Event,Community Outreach,Mobile Clinic
ATTACH;FMTTYPE=image/jpeg:https://dev.chas.org/wp-content/uploads/2021/07/mobile-clinic-taco-night.jpg
ORGANIZER;CN="CHAS Health":MAILTO:communications@chas.org
END:VEVENT
END:VCALENDAR