BEGIN:VCALENDAR
VERSION:2.0
PRODID:-//CHAS Health | Doctors, Dentists, Medical Clinics &amp; Pharmacy - ECPv6.15.20//NONSGML v1.0//EN
CALSCALE:GREGORIAN
METHOD:PUBLISH
X-WR-CALNAME:CHAS Health | Doctors, Dentists, Medical Clinics &amp; Pharmacy
X-ORIGINAL-URL:https://dev.chas.org
X-WR-CALDESC:Events for CHAS Health | Doctors, Dentists, Medical Clinics &amp; Pharmacy
REFRESH-INTERVAL;VALUE=DURATION:PT1H
X-Robots-Tag:noindex
X-PUBLISHED-TTL:PT1H
BEGIN:VTIMEZONE
TZID:America/Los_Angeles
BEGIN:DAYLIGHT
TZOFFSETFROM:-0800
TZOFFSETTO:-0700
TZNAME:PDT
DTSTART:20230312T100000
END:DAYLIGHT
BEGIN:STANDARD
TZOFFSETFROM:-0700
TZOFFSETTO:-0800
TZNAME:PST
DTSTART:20231105T090000
END:STANDARD
BEGIN:DAYLIGHT
TZOFFSETFROM:-0800
TZOFFSETTO:-0700
TZNAME:PDT
DTSTART:20240310T100000
END:DAYLIGHT
BEGIN:STANDARD
TZOFFSETFROM:-0700
TZOFFSETTO:-0800
TZNAME:PST
DTSTART:20241103T090000
END:STANDARD
BEGIN:DAYLIGHT
TZOFFSETFROM:-0800
TZOFFSETTO:-0700
TZNAME:PDT
DTSTART:20250309T100000
END:DAYLIGHT
BEGIN:STANDARD
TZOFFSETFROM:-0700
TZOFFSETTO:-0800
TZNAME:PST
DTSTART:20251102T090000
END:STANDARD
END:VTIMEZONE
BEGIN:VEVENT
DTSTART;TZID=America/Los_Angeles:20240815T073000
DTEND;TZID=America/Los_Angeles:20240815T170000
DTSTAMP:20260419T061713
CREATED:20240801T174718Z
LAST-MODIFIED:20240801T174718Z
UID:10000534-1723707000-1723741200@dev.chas.org
SUMMARY:CHAS Health Community Sports Physicals
DESCRIPTION:CHAS Health is offering sports physicals for Spokane School Students only at Shadle Park High School on August 15\, from 7:30am-5:00pm. Please complete the  Washington Interscholastic Activities Association medical history form prior to the sports physicals.
URL:https://dev.chas.org/event/chas-health-community-sports-physicals-4/
LOCATION:Shadle Park High School\, 4327 N Ash St. Room B115\, Spokane\, WA\, 99205\, United States
CATEGORIES:Community Event
END:VEVENT
BEGIN:VEVENT
DTSTART;TZID=America/Los_Angeles:20240812T073000
DTEND;TZID=America/Los_Angeles:20240812T170000
DTSTAMP:20260419T061713
CREATED:20240801T174301Z
LAST-MODIFIED:20240801T174301Z
UID:10000533-1723447800-1723482000@dev.chas.org
SUMMARY:CHAS Health Community Sports Physicals
DESCRIPTION:CHAS Health is offering sports physicals for Spokane School Students only at Shadle Park High School on August 12\, from 7:30am-5:00pm. Please complete the  Washington Interscholastic Activities Association medical history form prior to the sports physicals.
URL:https://dev.chas.org/event/chas-health-community-sports-physicals-3/
LOCATION:Shadle Park High School\, 4327 N Ash St. Room B115\, Spokane\, WA\, 99205\, United States
CATEGORIES:Community Event
END:VEVENT
END:VCALENDAR