BEGIN:VCALENDAR
VERSION:2.0
PRODID:-//CHAS Health | Doctors, Dentists, Medical Clinics &amp; Pharmacy - ECPv6.15.20//NONSGML v1.0//EN
CALSCALE:GREGORIAN
METHOD:PUBLISH
X-WR-CALNAME:CHAS Health | Doctors, Dentists, Medical Clinics &amp; Pharmacy
X-ORIGINAL-URL:https://dev.chas.org
X-WR-CALDESC:Events for CHAS Health | Doctors, Dentists, Medical Clinics &amp; Pharmacy
REFRESH-INTERVAL;VALUE=DURATION:PT1H
X-Robots-Tag:noindex
X-PUBLISHED-TTL:PT1H
BEGIN:VTIMEZONE
TZID:America/Los_Angeles
BEGIN:DAYLIGHT
TZOFFSETFROM:-0800
TZOFFSETTO:-0700
TZNAME:PDT
DTSTART:20210314T100000
END:DAYLIGHT
BEGIN:STANDARD
TZOFFSETFROM:-0700
TZOFFSETTO:-0800
TZNAME:PST
DTSTART:20211107T090000
END:STANDARD
BEGIN:DAYLIGHT
TZOFFSETFROM:-0800
TZOFFSETTO:-0700
TZNAME:PDT
DTSTART:20220313T100000
END:DAYLIGHT
BEGIN:STANDARD
TZOFFSETFROM:-0700
TZOFFSETTO:-0800
TZNAME:PST
DTSTART:20221106T090000
END:STANDARD
BEGIN:DAYLIGHT
TZOFFSETFROM:-0800
TZOFFSETTO:-0700
TZNAME:PDT
DTSTART:20230312T100000
END:DAYLIGHT
BEGIN:STANDARD
TZOFFSETFROM:-0700
TZOFFSETTO:-0800
TZNAME:PST
DTSTART:20231105T090000
END:STANDARD
BEGIN:DAYLIGHT
TZOFFSETFROM:-0800
TZOFFSETTO:-0700
TZNAME:PDT
DTSTART:20240310T100000
END:DAYLIGHT
BEGIN:STANDARD
TZOFFSETFROM:-0700
TZOFFSETTO:-0800
TZNAME:PST
DTSTART:20241103T090000
END:STANDARD
BEGIN:DAYLIGHT
TZOFFSETFROM:-0800
TZOFFSETTO:-0700
TZNAME:PDT
DTSTART:20250309T100000
END:DAYLIGHT
BEGIN:STANDARD
TZOFFSETFROM:-0700
TZOFFSETTO:-0800
TZNAME:PST
DTSTART:20251102T090000
END:STANDARD
END:VTIMEZONE
BEGIN:VEVENT
DTSTART;TZID=America/Los_Angeles:20240629T120000
DTEND;TZID=America/Los_Angeles:20240629T180000
DTSTAMP:20260423T052520
CREATED:20240606T171834Z
LAST-MODIFIED:20240606T171834Z
UID:10000522-1719662400-1719684000@dev.chas.org
SUMMARY:Pride in Perry
DESCRIPTION:Odyssey Youth Movement is proud to present Pride In Perry\, an all-ages celebration of the LGBTQ+ community in the South Perry district featuring vendors\, local businesses\, activities\, and more. Come say hi to the CHAS Health booth!
URL:https://dev.chas.org/event/pride-in-perry-3/
LOCATION:South Perry\, Perry Street\, Spokane\, WA\, United States
CATEGORIES:Community Event
ATTACH;FMTTYPE=image/jpeg:https://dev.chas.org/wp-content/uploads/2022/05/pride-in-perry.jpg
ORGANIZER;CN="Odyssey Youth Movement":MAILTO:oym@odysseyyouth.org
END:VEVENT
BEGIN:VEVENT
DTSTART;TZID=America/Los_Angeles:20230715T100000
DTEND;TZID=America/Los_Angeles:20230715T200000
DTSTAMP:20260423T052520
CREATED:20230519T224447Z
LAST-MODIFIED:20230519T224447Z
UID:10000410-1689415200-1689451200@dev.chas.org
SUMMARY:South Perry Street Fair
DESCRIPTION:Since 1999\, the South Perry District has celebrated with a street fair each summer. \nOver the years\, the street fair has been held in many different capacities. \nIn 2022\, the fair covered three blocks of Perry Street and two parking lots with arts and crafts\, activities\, local businesses\, and food vendors. There were two stages\, a kid’s fair and so much more. \nCome stop by the CHAS Health booth for some sweet SWAG!
URL:https://dev.chas.org/event/south-perry-street-fair-2/
LOCATION:South Perry\, Perry Street\, Spokane\, WA\, United States
CATEGORIES:Community Event,Street Fair
ATTACH;FMTTYPE=image/jpeg:https://dev.chas.org/wp-content/uploads/2023/05/south-perry-street-fair-logo.jpg
ORGANIZER;CN="South Perry Business & Neighborhood Association":MAILTO:streetfair@southperry.org
END:VEVENT
BEGIN:VEVENT
DTSTART;TZID=America/Los_Angeles:20230624T120000
DTEND;TZID=America/Los_Angeles:20230624T180000
DTSTAMP:20260423T052520
CREATED:20230519T214946Z
LAST-MODIFIED:20230519T214946Z
UID:10000407-1687608000-1687629600@dev.chas.org
SUMMARY:Pride in Perry
DESCRIPTION:Odyssey Youth Movement is proud to present Pride In Perry\, an all-ages celebration of the LGBTQ+ community in the South Perry district featuring vendors\, local businesses\, activities\, and more. Come say hi to the CHAS Health booth!
URL:https://dev.chas.org/event/pride-in-perry-2/
LOCATION:South Perry\, Perry Street\, Spokane\, WA\, United States
CATEGORIES:Community Event
ATTACH;FMTTYPE=image/jpeg:https://dev.chas.org/wp-content/uploads/2022/05/pride-in-perry.jpg
ORGANIZER;CN="Odyssey Youth Movement":MAILTO:oym@odysseyyouth.org
END:VEVENT
BEGIN:VEVENT
DTSTART;TZID=America/Los_Angeles:20220716T100000
DTEND;TZID=America/Los_Angeles:20220716T190000
DTSTAMP:20260423T052520
CREATED:20220527T185556Z
LAST-MODIFIED:20220527T185556Z
UID:10000311-1657965600-1657998000@dev.chas.org
SUMMARY:South Perry Street Fair
DESCRIPTION:Since 1999\, the South Perry District has celebrated each summer with a street fair. Over the years\, the street fair has been held in many different capacities. In 2019\, the fair covered four blocks of Perry Street and four parking lots with arts and crafts\, activities\, local businesses\, and food vendors. There were two stages\, a kid’s fair\, and so much more!
URL:https://dev.chas.org/event/south-perry-street-fair/
LOCATION:South Perry\, Perry Street\, Spokane\, WA\, United States
CATEGORIES:Community Event,Street Fair
ATTACH;FMTTYPE=image/jpeg:https://dev.chas.org/wp-content/uploads/2022/05/south-perry-street-fair.jpg
ORGANIZER;CN="South Perry Business & Neighborhood Association":MAILTO:streetfair@southperry.org
END:VEVENT
BEGIN:VEVENT
DTSTART;VALUE=DATE:20220625
DTEND;VALUE=DATE:20220626
DTSTAMP:20260423T052520
CREATED:20220527T183120Z
LAST-MODIFIED:20220527T183311Z
UID:10000310-1656115200-1656201599@dev.chas.org
SUMMARY:Pride in Perry
DESCRIPTION:Save the date! On June 25th\, join Odyssey Youth Movement and our sponsors for Pride in Perry\, a celebration of the LGBTQ+ community in the South Perry district of Spokane. Readings\, vendors\, and activities galore; you don’t want to miss this!
URL:https://dev.chas.org/event/pride-in-perry/
LOCATION:South Perry\, Perry Street\, Spokane\, WA\, United States
ATTACH;FMTTYPE=image/jpeg:https://dev.chas.org/wp-content/uploads/2022/05/pride-in-perry.jpg
ORGANIZER;CN="Odyssey Youth Movement":MAILTO:oym@odysseyyouth.org
END:VEVENT
END:VCALENDAR