BEGIN:VCALENDAR
VERSION:2.0
PRODID:-//CHAS Health | Doctors, Dentists, Medical Clinics &amp; Pharmacy - ECPv6.15.20//NONSGML v1.0//EN
CALSCALE:GREGORIAN
METHOD:PUBLISH
X-WR-CALNAME:CHAS Health | Doctors, Dentists, Medical Clinics &amp; Pharmacy
X-ORIGINAL-URL:https://dev.chas.org
X-WR-CALDESC:Events for CHAS Health | Doctors, Dentists, Medical Clinics &amp; Pharmacy
REFRESH-INTERVAL;VALUE=DURATION:PT1H
X-Robots-Tag:noindex
X-PUBLISHED-TTL:PT1H
BEGIN:VTIMEZONE
TZID:America/Los_Angeles
BEGIN:DAYLIGHT
TZOFFSETFROM:-0800
TZOFFSETTO:-0700
TZNAME:PDT
DTSTART:20210314T100000
END:DAYLIGHT
BEGIN:STANDARD
TZOFFSETFROM:-0700
TZOFFSETTO:-0800
TZNAME:PST
DTSTART:20211107T090000
END:STANDARD
BEGIN:DAYLIGHT
TZOFFSETFROM:-0800
TZOFFSETTO:-0700
TZNAME:PDT
DTSTART:20220313T100000
END:DAYLIGHT
BEGIN:STANDARD
TZOFFSETFROM:-0700
TZOFFSETTO:-0800
TZNAME:PST
DTSTART:20221106T090000
END:STANDARD
BEGIN:DAYLIGHT
TZOFFSETFROM:-0800
TZOFFSETTO:-0700
TZNAME:PDT
DTSTART:20230312T100000
END:DAYLIGHT
BEGIN:STANDARD
TZOFFSETFROM:-0700
TZOFFSETTO:-0800
TZNAME:PST
DTSTART:20231105T090000
END:STANDARD
BEGIN:DAYLIGHT
TZOFFSETFROM:-0800
TZOFFSETTO:-0700
TZNAME:PDT
DTSTART:20240310T100000
END:DAYLIGHT
BEGIN:STANDARD
TZOFFSETFROM:-0700
TZOFFSETTO:-0800
TZNAME:PST
DTSTART:20241103T090000
END:STANDARD
END:VTIMEZONE
BEGIN:VEVENT
DTSTART;TZID=America/Los_Angeles:20230525T110000
DTEND;TZID=America/Los_Angeles:20230525T140000
DTSTAMP:20260419T094725
CREATED:20230519T204217Z
LAST-MODIFIED:20230519T204217Z
UID:10000404-1685012400-1685023200@dev.chas.org
SUMMARY:NonStop Local KHQ WorkSource Job Fair
DESCRIPTION:NonStop Local KHQ and WorkSource Job Fair is a collaborative offering from KHQ\, the Spokane Workforce Council\, and WorkSource Spokane. \nEach year they also offer sponsorship opportunities to local businesses. Employers who attend range across many industries\, and job opportunities span from entry-level to executive. WorkSource Spokane offers prep sessions for employers and job seekers to help all attendees have the best possible experience. \nThis signature hiring event has been offered since 2014 and has grown to host over 110 employers and over 1\,200 job seekers each year.
URL:https://dev.chas.org/event/nonstop-local-khq-worksource-job-fair/
LOCATION:Spokane Convention Center\, 334 West Spokane Falls Blvd Exhibition Hall C - Upper Level\, Spokane\, WA\, 99201\, United States
CATEGORIES:Community Event,Job Fair
ATTACH;FMTTYPE=image/webp:https://dev.chas.org/wp-content/uploads/2023/05/headline-art-work-final-red-nsl-brushed-city.webp
ORGANIZER;CN="khq":MAILTO:q6news@khq.com
END:VEVENT
BEGIN:VEVENT
DTSTART;TZID=America/Los_Angeles:20220511T110000
DTEND;TZID=America/Los_Angeles:20220511T140000
DTSTAMP:20260419T094725
CREATED:20220429T172757Z
LAST-MODIFIED:20220429T172757Z
UID:10000299-1652266800-1652277600@dev.chas.org
SUMMARY:KHQ/WorkSource Job Fair
DESCRIPTION:The KHQ/WorkSource Job Fair is a collaborative offering from KHQ Q6\, the Spokane Workforce Council\, and WorkSource Spokane. \nEach year they also offer sponsorship opportunities to local businesses. Employers who attend range across many industries\, and job opportunities span from entry-level to executive. WorkSource Spokane offers prep sessions for both employers and job seekers to help all attendees have the best possible experience. \nThis signature hiring event has been offered since 2014 and has grown to host over 110 employers and over 1\,200 job seekers each year.
URL:https://dev.chas.org/event/khq-worksource-job-fair/
LOCATION:Spokane Convention Center\, 334 West Spokane Falls Blvd Exhibition Hall C - Upper Level\, Spokane\, WA\, 99201\, United States
CATEGORIES:Job Fair
ATTACH;FMTTYPE=image/webp:https://dev.chas.org/wp-content/uploads/2022/04/khq-worksource-job-fair-2022.webp
ORGANIZER;CN="khq":MAILTO:q6news@khq.com
END:VEVENT
BEGIN:VEVENT
DTSTART;TZID=America/Los_Angeles:20220406T140000
DTEND;TZID=America/Los_Angeles:20220406T180000
DTSTAMP:20260419T094725
CREATED:20220210T220452Z
LAST-MODIFIED:20220210T220452Z
UID:10000297-1649253600-1649268000@dev.chas.org
SUMMARY:FUSE Career Fair
DESCRIPTION:For 25 years\, Eastern Washington University\, Gonzaga University\, Washington State University Spokane and Whitworth University have partnered to provide employers with an opportunity to meet with over 700 students from more than 120 bachelors\, masters and doctoral programs in one location in Spokane\, Washington. This one-of-a-kind opportunity provides access to a network of over 20\,000 current students and alumni.
URL:https://dev.chas.org/event/fuse-career-fair/
LOCATION:Spokane Convention Center\, 334 West Spokane Falls Blvd Exhibition Hall C - Upper Level\, Spokane\, WA\, 99201\, United States
CATEGORIES:Community Event,Job Fair
ATTACH;FMTTYPE=image/jpeg:https://dev.chas.org/wp-content/uploads/2022/02/fuse-career-fair.jpg
END:VEVENT
BEGIN:VEVENT
DTSTART;TZID=America/Los_Angeles:20220301T100000
DTEND;TZID=America/Los_Angeles:20220301T150000
DTSTAMP:20260419T094725
CREATED:20220112T203334Z
LAST-MODIFIED:20220126T232138Z
UID:10000271-1646128800-1646146800@dev.chas.org
SUMMARY:Homeless Connect by the Spokane Homeless Coalition
DESCRIPTION:CHAS Health is a 2022 sponsor of the Homeless Connect\, the largest and longest-running homeless services event in Spokane. The Spokane Homeless Connect brings a multitude of social services under the roof of the Spokane Convention Center. Those who are homeless or at risk of becoming homeless can access everything from housing assistance to a haircut and hot meal.
URL:https://dev.chas.org/event/homeless-connect-by-the-spokane-homeless-coalition/
LOCATION:Spokane Convention Center\, 334 West Spokane Falls Blvd Exhibition Hall C - Upper Level\, Spokane\, WA\, 99201\, United States
CATEGORIES:Community Outreach
ATTACH;FMTTYPE=image/jpeg:https://dev.chas.org/wp-content/uploads/2022/01/homeless-connect-2022-og.jpg
END:VEVENT
END:VCALENDAR