BEGIN:VCALENDAR
VERSION:2.0
PRODID:-//CHAS Health | Doctors, Dentists, Medical Clinics &amp; Pharmacy - ECPv6.15.20//NONSGML v1.0//EN
CALSCALE:GREGORIAN
METHOD:PUBLISH
X-ORIGINAL-URL:https://dev.chas.org
X-WR-CALDESC:Events for CHAS Health | Doctors, Dentists, Medical Clinics &amp; Pharmacy
REFRESH-INTERVAL;VALUE=DURATION:PT1H
X-Robots-Tag:noindex
X-PUBLISHED-TTL:PT1H
BEGIN:VTIMEZONE
TZID:America/Los_Angeles
BEGIN:DAYLIGHT
TZOFFSETFROM:-0800
TZOFFSETTO:-0700
TZNAME:PDT
DTSTART:20220313T100000
END:DAYLIGHT
BEGIN:STANDARD
TZOFFSETFROM:-0700
TZOFFSETTO:-0800
TZNAME:PST
DTSTART:20221106T090000
END:STANDARD
BEGIN:DAYLIGHT
TZOFFSETFROM:-0800
TZOFFSETTO:-0700
TZNAME:PDT
DTSTART:20230312T100000
END:DAYLIGHT
BEGIN:STANDARD
TZOFFSETFROM:-0700
TZOFFSETTO:-0800
TZNAME:PST
DTSTART:20231105T090000
END:STANDARD
BEGIN:DAYLIGHT
TZOFFSETFROM:-0800
TZOFFSETTO:-0700
TZNAME:PDT
DTSTART:20240310T100000
END:DAYLIGHT
BEGIN:STANDARD
TZOFFSETFROM:-0700
TZOFFSETTO:-0800
TZNAME:PST
DTSTART:20241103T090000
END:STANDARD
BEGIN:DAYLIGHT
TZOFFSETFROM:-0800
TZOFFSETTO:-0700
TZNAME:PDT
DTSTART:20250309T100000
END:DAYLIGHT
BEGIN:STANDARD
TZOFFSETFROM:-0700
TZOFFSETTO:-0800
TZNAME:PST
DTSTART:20251102T090000
END:STANDARD
BEGIN:DAYLIGHT
TZOFFSETFROM:-0800
TZOFFSETTO:-0700
TZNAME:PDT
DTSTART:20260308T100000
END:DAYLIGHT
BEGIN:STANDARD
TZOFFSETFROM:-0700
TZOFFSETTO:-0800
TZNAME:PST
DTSTART:20261101T090000
END:STANDARD
END:VTIMEZONE
BEGIN:VEVENT
DTSTART;TZID=America/Los_Angeles:20250827T110000
DTEND;TZID=America/Los_Angeles:20250827T160000
DTSTAMP:20260423T034754
CREATED:20250808T222656Z
LAST-MODIFIED:20250808T222751Z
UID:10003813-1756292400-1756310400@dev.chas.org
SUMMARY:CHAS Health Mobile Clinic at Thrive Center
DESCRIPTION:CHAS Health mobile clinic will be at Thrive Center located  110 E 4th Avenue\, Spokane\, WA 99202.
URL:https://dev.chas.org/event/chas-health-mobile-clinic-at-thrive-center-2/
LOCATION:Thrive International\, 110 E 4th Avenue\, Spokane\, WA\, 99202\, United States
CATEGORIES:Mobile Clinic
ATTACH;FMTTYPE=image/jpeg:https://dev.chas.org/wp-content/uploads/2024/04/mobile-clinic-wide-6.jpg
END:VEVENT
BEGIN:VEVENT
DTSTART;TZID=America/Los_Angeles:20250813T110000
DTEND;TZID=America/Los_Angeles:20250813T160000
DTSTAMP:20260423T034754
CREATED:20250808T205535Z
LAST-MODIFIED:20250808T211153Z
UID:10003806-1755082800-1755100800@dev.chas.org
SUMMARY:CHAS Health Mobile Clinic at Thrive Center
DESCRIPTION:CHAS Health mobile clinic will be at Thrive Center located  110 E 4th Avenue\, Spokane\, WA 99202.
URL:https://dev.chas.org/event/chas-health-mobile-clinic-at-thrive-center/
LOCATION:Thrive International\, 110 E 4th Avenue\, Spokane\, WA\, 99202\, United States
CATEGORIES:Mobile Clinic
ATTACH;FMTTYPE=image/jpeg:https://dev.chas.org/wp-content/uploads/2024/04/mobile-clinic-wide-6.jpg
END:VEVENT
BEGIN:VEVENT
DTSTART;TZID=America/Los_Angeles:20231101T120000
DTEND;TZID=America/Los_Angeles:20231101T150000
DTSTAMP:20260423T034754
CREATED:20231031T221044Z
LAST-MODIFIED:20231031T221044Z
UID:10000478-1698840000-1698850800@dev.chas.org
SUMMARY:CHAS Health Mobile Clinic TB Testing at Thrive International
DESCRIPTION:  \n \nJoin CHAS Health at Thrive International for a TB Clinic on November 1\, from 12:00- 3:00 pm.
URL:https://dev.chas.org/event/chas-health-mobile-clinic-tb-testing-at-thrive-international/
LOCATION:Thrive International\, 110 E 4th Avenue\, Spokane\, WA\, 99202\, United States
CATEGORIES:Community Event,Mobile Clinic
END:VEVENT
BEGIN:VEVENT
DTSTART;TZID=America/Los_Angeles:20231018T100000
DTEND;TZID=America/Los_Angeles:20231018T150000
DTSTAMP:20260423T034754
CREATED:20231002T215725Z
LAST-MODIFIED:20231002T215725Z
UID:10000452-1697623200-1697641200@dev.chas.org
SUMMARY:CHAS Health Mobile Primary Care Clinic at Thrive International
DESCRIPTION:Join CHAS Health at Thrive International on October 18th from 10:00 a.m. to 3:00 p.m.
URL:https://dev.chas.org/event/chas-health-mobile-primary-care-clinic-at-thrive-international/
LOCATION:Thrive International\, 110 E 4th Avenue\, Spokane\, WA\, 99202\, United States
CATEGORIES:Community Event,Mobile Clinic
END:VEVENT
BEGIN:VEVENT
DTSTART;TZID=America/Los_Angeles:20231004T120000
DTEND;TZID=America/Los_Angeles:20231004T150000
DTSTAMP:20260423T034754
CREATED:20231002T214557Z
LAST-MODIFIED:20231002T215946Z
UID:10000451-1696420800-1696431600@dev.chas.org
SUMMARY:CHAS Health Mobile Clinic TB Testing at Thrive International
DESCRIPTION:  \n \nJoin CHAS Health at Thrive International for a TB Clinic on October 4th\, from 12:00- 3:00 pm.
URL:https://dev.chas.org/event/thrive-tb-testing-clinic/
LOCATION:Thrive International\, 110 E 4th Avenue\, Spokane\, WA\, 99202\, United States
CATEGORIES:Community Event,Mobile Clinic
END:VEVENT
END:VCALENDAR