BEGIN:VCALENDAR
VERSION:2.0
PRODID:-//CHAS Health | Doctors, Dentists, Medical Clinics &amp; Pharmacy - ECPv6.15.20//NONSGML v1.0//EN
CALSCALE:GREGORIAN
METHOD:PUBLISH
X-ORIGINAL-URL:https://dev.chas.org
X-WR-CALDESC:Events for CHAS Health | Doctors, Dentists, Medical Clinics &amp; Pharmacy
REFRESH-INTERVAL;VALUE=DURATION:PT1H
X-Robots-Tag:noindex
X-PUBLISHED-TTL:PT1H
BEGIN:VTIMEZONE
TZID:America/Los_Angeles
BEGIN:DAYLIGHT
TZOFFSETFROM:-0800
TZOFFSETTO:-0700
TZNAME:PDT
DTSTART:20230312T100000
END:DAYLIGHT
BEGIN:STANDARD
TZOFFSETFROM:-0700
TZOFFSETTO:-0800
TZNAME:PST
DTSTART:20231105T090000
END:STANDARD
BEGIN:DAYLIGHT
TZOFFSETFROM:-0800
TZOFFSETTO:-0700
TZNAME:PDT
DTSTART:20240310T100000
END:DAYLIGHT
BEGIN:STANDARD
TZOFFSETFROM:-0700
TZOFFSETTO:-0800
TZNAME:PST
DTSTART:20241103T090000
END:STANDARD
BEGIN:DAYLIGHT
TZOFFSETFROM:-0800
TZOFFSETTO:-0700
TZNAME:PDT
DTSTART:20250309T100000
END:DAYLIGHT
BEGIN:STANDARD
TZOFFSETFROM:-0700
TZOFFSETTO:-0800
TZNAME:PST
DTSTART:20251102T090000
END:STANDARD
END:VTIMEZONE
BEGIN:VEVENT
DTSTART;TZID=America/Los_Angeles:20240829T130000
DTEND;TZID=America/Los_Angeles:20240829T170000
DTSTAMP:20260419T083015
CREATED:20240801T195900Z
LAST-MODIFIED:20240820T164059Z
UID:10000542-1724936400-1724950800@dev.chas.org
SUMMARY:CHAS Health Community Sports Physicals
DESCRIPTION:CHAS Health is offering sports physicals for Spokane School Students only at Yasuhara Middle School on August 29\, from 1:00pm-5:00pm. Please complete the  Washington Interscholastic Activities Association medical history form prior to the sports physicals. \nPlease visit chas.org   to schedule an appointment or call 509.444.8200.
URL:https://dev.chas.org/event/chas-health-community-sports-physicals-12/
LOCATION:Yashuhara MIddle School\, 2701 N Perry Street\, Spokane\, 99207\, United States
CATEGORIES:Community Event
END:VEVENT
END:VCALENDAR